BEGIN:VCALENDAR
VERSION:2.0
PRODID:-//Caloundra Power Boat Club - ECPv6.8.2.1//NONSGML v1.0//EN
CALSCALE:GREGORIAN
METHOD:PUBLISH
X-ORIGINAL-URL:https://www.caloundrapowerboat.com.au
X-WR-CALDESC:Events for Caloundra Power Boat Club
REFRESH-INTERVAL;VALUE=DURATION:PT1H
X-Robots-Tag:noindex
X-PUBLISHED-TTL:PT1H
BEGIN:VTIMEZONE
TZID:Australia/Brisbane
BEGIN:STANDARD
TZOFFSETFROM:+1000
TZOFFSETTO:+1000
TZNAME:AEST
DTSTART:20280101T000000
END:STANDARD
END:VTIMEZONE
BEGIN:VEVENT
DTSTART;TZID=Australia/Brisbane:20281105T120000
DTEND;TZID=Australia/Brisbane:20281105T130000
DTSTAMP:20260424T111157
CREATED:20250224T184845Z
LAST-MODIFIED:20250307T065205Z
UID:10004684-1857038400-1857042000@www.caloundrapowerboat.com.au
SUMMARY:Outrigger Raffles
DESCRIPTION:Outrigger Raffles every Sundays from 12pm til around 1pm
URL:https://www.caloundrapowerboat.com.au/event/outrigger-raffles/2028-11-05/
LOCATION:Caloundra Power Boat Club\, 2 Lamerough Parade\, Golden Beach\, QLD\, 4551\, Australia
CATEGORIES:Coast Guard Raffles
ATTACH;FMTTYPE=image/webp:https://www.caloundrapowerboat.com.au/wp-content/uploads/2025/02/OCCC-1.webp
END:VEVENT
BEGIN:VEVENT
DTSTART;TZID=Australia/Brisbane:20281112T120000
DTEND;TZID=Australia/Brisbane:20281112T130000
DTSTAMP:20260424T111157
CREATED:20250224T184845Z
LAST-MODIFIED:20250307T065205Z
UID:10004685-1857643200-1857646800@www.caloundrapowerboat.com.au
SUMMARY:Outrigger Raffles
DESCRIPTION:Outrigger Raffles every Sundays from 12pm til around 1pm
URL:https://www.caloundrapowerboat.com.au/event/outrigger-raffles/2028-11-12/
LOCATION:Caloundra Power Boat Club\, 2 Lamerough Parade\, Golden Beach\, QLD\, 4551\, Australia
CATEGORIES:Coast Guard Raffles
ATTACH;FMTTYPE=image/webp:https://www.caloundrapowerboat.com.au/wp-content/uploads/2025/02/OCCC-1.webp
END:VEVENT
BEGIN:VEVENT
DTSTART;TZID=Australia/Brisbane:20281119T120000
DTEND;TZID=Australia/Brisbane:20281119T130000
DTSTAMP:20260424T111157
CREATED:20250224T184845Z
LAST-MODIFIED:20250307T065205Z
UID:10004686-1858248000-1858251600@www.caloundrapowerboat.com.au
SUMMARY:Outrigger Raffles
DESCRIPTION:Outrigger Raffles every Sundays from 12pm til around 1pm
URL:https://www.caloundrapowerboat.com.au/event/outrigger-raffles/2028-11-19/
LOCATION:Caloundra Power Boat Club\, 2 Lamerough Parade\, Golden Beach\, QLD\, 4551\, Australia
CATEGORIES:Coast Guard Raffles
ATTACH;FMTTYPE=image/webp:https://www.caloundrapowerboat.com.au/wp-content/uploads/2025/02/OCCC-1.webp
END:VEVENT
BEGIN:VEVENT
DTSTART;TZID=Australia/Brisbane:20281126T120000
DTEND;TZID=Australia/Brisbane:20281126T130000
DTSTAMP:20260424T111157
CREATED:20250224T184845Z
LAST-MODIFIED:20250307T065205Z
UID:10004687-1858852800-1858856400@www.caloundrapowerboat.com.au
SUMMARY:Outrigger Raffles
DESCRIPTION:Outrigger Raffles every Sundays from 12pm til around 1pm
URL:https://www.caloundrapowerboat.com.au/event/outrigger-raffles/2028-11-26/
LOCATION:Caloundra Power Boat Club\, 2 Lamerough Parade\, Golden Beach\, QLD\, 4551\, Australia
CATEGORIES:Coast Guard Raffles
ATTACH;FMTTYPE=image/webp:https://www.caloundrapowerboat.com.au/wp-content/uploads/2025/02/OCCC-1.webp
END:VEVENT
END:VCALENDAR