BEGIN:VCALENDAR
VERSION:2.0
PRODID:-//Caloundra Power Boat Club - ECPv6.8.2.1//NONSGML v1.0//EN
CALSCALE:GREGORIAN
METHOD:PUBLISH
X-WR-CALNAME:Caloundra Power Boat Club
X-ORIGINAL-URL:https://www.caloundrapowerboat.com.au
X-WR-CALDESC:Events for Caloundra Power Boat Club
REFRESH-INTERVAL;VALUE=DURATION:PT1H
X-Robots-Tag:noindex
X-PUBLISHED-TTL:PT1H
BEGIN:VTIMEZONE
TZID:Australia/Brisbane
BEGIN:STANDARD
TZOFFSETFROM:+1000
TZOFFSETTO:+1000
TZNAME:AEST
DTSTART:20280101T000000
END:STANDARD
END:VTIMEZONE
BEGIN:VEVENT
DTSTART;TZID=Australia/Brisbane:20281203T120000
DTEND;TZID=Australia/Brisbane:20281203T130000
DTSTAMP:20260424T123523
CREATED:20250224T184845Z
LAST-MODIFIED:20250307T065205Z
UID:10004688-1859457600-1859461200@www.caloundrapowerboat.com.au
SUMMARY:Outrigger Raffles
DESCRIPTION:Outrigger Raffles every Sundays from 12pm til around 1pm
URL:https://www.caloundrapowerboat.com.au/event/outrigger-raffles/2028-12-03/
LOCATION:Caloundra Power Boat Club\, 2 Lamerough Parade\, Golden Beach\, QLD\, 4551\, Australia
CATEGORIES:Coast Guard Raffles
ATTACH;FMTTYPE=image/webp:https://www.caloundrapowerboat.com.au/wp-content/uploads/2025/02/OCCC-1.webp
END:VEVENT
BEGIN:VEVENT
DTSTART;TZID=Australia/Brisbane:20281210T120000
DTEND;TZID=Australia/Brisbane:20281210T130000
DTSTAMP:20260424T123523
CREATED:20250224T184845Z
LAST-MODIFIED:20250307T065205Z
UID:10004689-1860062400-1860066000@www.caloundrapowerboat.com.au
SUMMARY:Outrigger Raffles
DESCRIPTION:Outrigger Raffles every Sundays from 12pm til around 1pm
URL:https://www.caloundrapowerboat.com.au/event/outrigger-raffles/2028-12-10/
LOCATION:Caloundra Power Boat Club\, 2 Lamerough Parade\, Golden Beach\, QLD\, 4551\, Australia
CATEGORIES:Coast Guard Raffles
ATTACH;FMTTYPE=image/webp:https://www.caloundrapowerboat.com.au/wp-content/uploads/2025/02/OCCC-1.webp
END:VEVENT
BEGIN:VEVENT
DTSTART;TZID=Australia/Brisbane:20281217T120000
DTEND;TZID=Australia/Brisbane:20281217T130000
DTSTAMP:20260424T123523
CREATED:20250224T184845Z
LAST-MODIFIED:20250307T065205Z
UID:10004690-1860667200-1860670800@www.caloundrapowerboat.com.au
SUMMARY:Outrigger Raffles
DESCRIPTION:Outrigger Raffles every Sundays from 12pm til around 1pm
URL:https://www.caloundrapowerboat.com.au/event/outrigger-raffles/2028-12-17/
LOCATION:Caloundra Power Boat Club\, 2 Lamerough Parade\, Golden Beach\, QLD\, 4551\, Australia
CATEGORIES:Coast Guard Raffles
ATTACH;FMTTYPE=image/webp:https://www.caloundrapowerboat.com.au/wp-content/uploads/2025/02/OCCC-1.webp
END:VEVENT
BEGIN:VEVENT
DTSTART;TZID=Australia/Brisbane:20281224T120000
DTEND;TZID=Australia/Brisbane:20281224T130000
DTSTAMP:20260424T123523
CREATED:20250224T184845Z
LAST-MODIFIED:20250307T065205Z
UID:10004691-1861272000-1861275600@www.caloundrapowerboat.com.au
SUMMARY:Outrigger Raffles
DESCRIPTION:Outrigger Raffles every Sundays from 12pm til around 1pm
URL:https://www.caloundrapowerboat.com.au/event/outrigger-raffles/2028-12-24/
LOCATION:Caloundra Power Boat Club\, 2 Lamerough Parade\, Golden Beach\, QLD\, 4551\, Australia
CATEGORIES:Coast Guard Raffles
ATTACH;FMTTYPE=image/webp:https://www.caloundrapowerboat.com.au/wp-content/uploads/2025/02/OCCC-1.webp
END:VEVENT
BEGIN:VEVENT
DTSTART;TZID=Australia/Brisbane:20281231T120000
DTEND;TZID=Australia/Brisbane:20281231T130000
DTSTAMP:20260424T123523
CREATED:20250224T184845Z
LAST-MODIFIED:20250307T065205Z
UID:10004692-1861876800-1861880400@www.caloundrapowerboat.com.au
SUMMARY:Outrigger Raffles
DESCRIPTION:Outrigger Raffles every Sundays from 12pm til around 1pm
URL:https://www.caloundrapowerboat.com.au/event/outrigger-raffles/2028-12-31/
LOCATION:Caloundra Power Boat Club\, 2 Lamerough Parade\, Golden Beach\, QLD\, 4551\, Australia
CATEGORIES:Coast Guard Raffles
ATTACH;FMTTYPE=image/webp:https://www.caloundrapowerboat.com.au/wp-content/uploads/2025/02/OCCC-1.webp
END:VEVENT
END:VCALENDAR