BEGIN:VCALENDAR
VERSION:2.0
PRODID:-//Caloundra Power Boat Club - ECPv6.8.2.1//NONSGML v1.0//EN
CALSCALE:GREGORIAN
METHOD:PUBLISH
X-ORIGINAL-URL:https://www.caloundrapowerboat.com.au
X-WR-CALDESC:Events for Caloundra Power Boat Club
REFRESH-INTERVAL;VALUE=DURATION:PT1H
X-Robots-Tag:noindex
X-PUBLISHED-TTL:PT1H
BEGIN:VTIMEZONE
TZID:Australia/Brisbane
BEGIN:STANDARD
TZOFFSETFROM:+1000
TZOFFSETTO:+1000
TZNAME:AEST
DTSTART:20290101T000000
END:STANDARD
END:VTIMEZONE
BEGIN:VEVENT
DTSTART;TZID=Australia/Brisbane:20291104T120000
DTEND;TZID=Australia/Brisbane:20291104T130000
DTSTAMP:20260425T051640
CREATED:20250224T184845Z
LAST-MODIFIED:20250307T065205Z
UID:10004736-1888488000-1888491600@www.caloundrapowerboat.com.au
SUMMARY:Outrigger Raffles
DESCRIPTION:Outrigger Raffles every Sundays from 12pm til around 1pm
URL:https://www.caloundrapowerboat.com.au/event/outrigger-raffles/2029-11-04/
LOCATION:Caloundra Power Boat Club\, 2 Lamerough Parade\, Golden Beach\, QLD\, 4551\, Australia
CATEGORIES:Coast Guard Raffles
ATTACH;FMTTYPE=image/webp:https://www.caloundrapowerboat.com.au/wp-content/uploads/2025/02/OCCC-1.webp
END:VEVENT
BEGIN:VEVENT
DTSTART;TZID=Australia/Brisbane:20291111T120000
DTEND;TZID=Australia/Brisbane:20291111T130000
DTSTAMP:20260425T051640
CREATED:20250224T184845Z
LAST-MODIFIED:20250307T065205Z
UID:10004737-1889092800-1889096400@www.caloundrapowerboat.com.au
SUMMARY:Outrigger Raffles
DESCRIPTION:Outrigger Raffles every Sundays from 12pm til around 1pm
URL:https://www.caloundrapowerboat.com.au/event/outrigger-raffles/2029-11-11/
LOCATION:Caloundra Power Boat Club\, 2 Lamerough Parade\, Golden Beach\, QLD\, 4551\, Australia
CATEGORIES:Coast Guard Raffles
ATTACH;FMTTYPE=image/webp:https://www.caloundrapowerboat.com.au/wp-content/uploads/2025/02/OCCC-1.webp
END:VEVENT
BEGIN:VEVENT
DTSTART;TZID=Australia/Brisbane:20291118T120000
DTEND;TZID=Australia/Brisbane:20291118T130000
DTSTAMP:20260425T051640
CREATED:20250224T184845Z
LAST-MODIFIED:20250307T065205Z
UID:10004738-1889697600-1889701200@www.caloundrapowerboat.com.au
SUMMARY:Outrigger Raffles
DESCRIPTION:Outrigger Raffles every Sundays from 12pm til around 1pm
URL:https://www.caloundrapowerboat.com.au/event/outrigger-raffles/2029-11-18/
LOCATION:Caloundra Power Boat Club\, 2 Lamerough Parade\, Golden Beach\, QLD\, 4551\, Australia
CATEGORIES:Coast Guard Raffles
ATTACH;FMTTYPE=image/webp:https://www.caloundrapowerboat.com.au/wp-content/uploads/2025/02/OCCC-1.webp
END:VEVENT
BEGIN:VEVENT
DTSTART;TZID=Australia/Brisbane:20291125T120000
DTEND;TZID=Australia/Brisbane:20291125T130000
DTSTAMP:20260425T051640
CREATED:20250224T184845Z
LAST-MODIFIED:20250307T065205Z
UID:10004739-1890302400-1890306000@www.caloundrapowerboat.com.au
SUMMARY:Outrigger Raffles
DESCRIPTION:Outrigger Raffles every Sundays from 12pm til around 1pm
URL:https://www.caloundrapowerboat.com.au/event/outrigger-raffles/2029-11-25/
LOCATION:Caloundra Power Boat Club\, 2 Lamerough Parade\, Golden Beach\, QLD\, 4551\, Australia
CATEGORIES:Coast Guard Raffles
ATTACH;FMTTYPE=image/webp:https://www.caloundrapowerboat.com.au/wp-content/uploads/2025/02/OCCC-1.webp
END:VEVENT
END:VCALENDAR