BEGIN:VCALENDAR
VERSION:2.0
PRODID:-//Caloundra Power Boat Club - ECPv6.8.2.1//NONSGML v1.0//EN
CALSCALE:GREGORIAN
METHOD:PUBLISH
X-WR-CALNAME:Caloundra Power Boat Club
X-ORIGINAL-URL:https://www.caloundrapowerboat.com.au
X-WR-CALDESC:Events for Caloundra Power Boat Club
REFRESH-INTERVAL;VALUE=DURATION:PT1H
X-Robots-Tag:noindex
X-PUBLISHED-TTL:PT1H
BEGIN:VTIMEZONE
TZID:Australia/Brisbane
BEGIN:STANDARD
TZOFFSETFROM:+1000
TZOFFSETTO:+1000
TZNAME:AEST
DTSTART:20310101T000000
END:STANDARD
END:VTIMEZONE
BEGIN:VEVENT
DTSTART;TZID=Australia/Brisbane:20310309T120000
DTEND;TZID=Australia/Brisbane:20310309T130000
DTSTAMP:20260420T065123
CREATED:20250224T184845Z
LAST-MODIFIED:20250307T065205Z
UID:10007689-1930824000-1930827600@www.caloundrapowerboat.com.au
SUMMARY:Outrigger Raffles
DESCRIPTION:Outrigger Raffles every Sundays from 12pm til around 1pm
URL:https://www.caloundrapowerboat.com.au/event/outrigger-raffles/2031-03-09/
LOCATION:Caloundra Power Boat Club\, 2 Lamerough Parade\, Golden Beach\, QLD\, 4551\, Australia
CATEGORIES:Coast Guard Raffles
ATTACH;FMTTYPE=image/webp:https://www.caloundrapowerboat.com.au/wp-content/uploads/2025/02/OCCC-1.webp
END:VEVENT
BEGIN:VEVENT
DTSTART;TZID=Australia/Brisbane:20310316T120000
DTEND;TZID=Australia/Brisbane:20310316T130000
DTSTAMP:20260420T065123
CREATED:20250224T184845Z
LAST-MODIFIED:20250307T065205Z
UID:10007692-1931428800-1931432400@www.caloundrapowerboat.com.au
SUMMARY:Outrigger Raffles
DESCRIPTION:Outrigger Raffles every Sundays from 12pm til around 1pm
URL:https://www.caloundrapowerboat.com.au/event/outrigger-raffles/2031-03-16/
LOCATION:Caloundra Power Boat Club\, 2 Lamerough Parade\, Golden Beach\, QLD\, 4551\, Australia
CATEGORIES:Coast Guard Raffles
ATTACH;FMTTYPE=image/webp:https://www.caloundrapowerboat.com.au/wp-content/uploads/2025/02/OCCC-1.webp
END:VEVENT
BEGIN:VEVENT
DTSTART;TZID=Australia/Brisbane:20310323T120000
DTEND;TZID=Australia/Brisbane:20310323T130000
DTSTAMP:20260420T065123
CREATED:20250224T184845Z
LAST-MODIFIED:20250307T065205Z
UID:10007963-1932033600-1932037200@www.caloundrapowerboat.com.au
SUMMARY:Outrigger Raffles
DESCRIPTION:Outrigger Raffles every Sundays from 12pm til around 1pm
URL:https://www.caloundrapowerboat.com.au/event/outrigger-raffles/2031-03-23/
LOCATION:Caloundra Power Boat Club\, 2 Lamerough Parade\, Golden Beach\, QLD\, 4551\, Australia
CATEGORIES:Coast Guard Raffles
ATTACH;FMTTYPE=image/webp:https://www.caloundrapowerboat.com.au/wp-content/uploads/2025/02/OCCC-1.webp
END:VEVENT
BEGIN:VEVENT
DTSTART;TZID=Australia/Brisbane:20310330T120000
DTEND;TZID=Australia/Brisbane:20310330T130000
DTSTAMP:20260420T065123
CREATED:20250224T184845Z
LAST-MODIFIED:20250307T065205Z
UID:10007964-1932638400-1932642000@www.caloundrapowerboat.com.au
SUMMARY:Outrigger Raffles
DESCRIPTION:Outrigger Raffles every Sundays from 12pm til around 1pm
URL:https://www.caloundrapowerboat.com.au/event/outrigger-raffles/2031-03-30/
LOCATION:Caloundra Power Boat Club\, 2 Lamerough Parade\, Golden Beach\, QLD\, 4551\, Australia
CATEGORIES:Coast Guard Raffles
ATTACH;FMTTYPE=image/webp:https://www.caloundrapowerboat.com.au/wp-content/uploads/2025/02/OCCC-1.webp
END:VEVENT
BEGIN:VEVENT
DTSTART;TZID=Australia/Brisbane:20310406T120000
DTEND;TZID=Australia/Brisbane:20310406T130000
DTSTAMP:20260420T065123
CREATED:20250224T184845Z
LAST-MODIFIED:20250307T065205Z
UID:10007974-1933243200-1933246800@www.caloundrapowerboat.com.au
SUMMARY:Outrigger Raffles
DESCRIPTION:Outrigger Raffles every Sundays from 12pm til around 1pm
URL:https://www.caloundrapowerboat.com.au/event/outrigger-raffles/2031-04-06/
LOCATION:Caloundra Power Boat Club\, 2 Lamerough Parade\, Golden Beach\, QLD\, 4551\, Australia
CATEGORIES:Coast Guard Raffles
ATTACH;FMTTYPE=image/webp:https://www.caloundrapowerboat.com.au/wp-content/uploads/2025/02/OCCC-1.webp
END:VEVENT
BEGIN:VEVENT
DTSTART;TZID=Australia/Brisbane:20310413T120000
DTEND;TZID=Australia/Brisbane:20310413T130000
DTSTAMP:20260420T065123
CREATED:20250224T184845Z
LAST-MODIFIED:20250307T065205Z
UID:10007978-1933848000-1933851600@www.caloundrapowerboat.com.au
SUMMARY:Outrigger Raffles
DESCRIPTION:Outrigger Raffles every Sundays from 12pm til around 1pm
URL:https://www.caloundrapowerboat.com.au/event/outrigger-raffles/2031-04-13/
LOCATION:Caloundra Power Boat Club\, 2 Lamerough Parade\, Golden Beach\, QLD\, 4551\, Australia
CATEGORIES:Coast Guard Raffles
ATTACH;FMTTYPE=image/webp:https://www.caloundrapowerboat.com.au/wp-content/uploads/2025/02/OCCC-1.webp
END:VEVENT
END:VCALENDAR