BEGIN:VCALENDAR
VERSION:2.0
PRODID:-//Caloundra Power Boat Club - ECPv6.8.2.1//NONSGML v1.0//EN
CALSCALE:GREGORIAN
METHOD:PUBLISH
X-ORIGINAL-URL:https://www.caloundrapowerboat.com.au
X-WR-CALDESC:Events for Caloundra Power Boat Club
REFRESH-INTERVAL;VALUE=DURATION:PT1H
X-Robots-Tag:noindex
X-PUBLISHED-TTL:PT1H
BEGIN:VTIMEZONE
TZID:Australia/Brisbane
BEGIN:STANDARD
TZOFFSETFROM:+1000
TZOFFSETTO:+1000
TZNAME:AEST
DTSTART:20260101T000000
END:STANDARD
END:VTIMEZONE
BEGIN:VEVENT
DTSTART;TZID=Australia/Brisbane:20260425T190000
DTEND;TZID=Australia/Brisbane:20260425T220000
DTSTAMP:20260426T010109
CREATED:20260326T090425Z
LAST-MODIFIED:20260326T090425Z
UID:10007959-1777143600-1777154400@www.caloundrapowerboat.com.au
SUMMARY:Andrew Redford
DESCRIPTION:Live Music 7pm to 10pm
URL:https://www.caloundrapowerboat.com.au/event/andrew-redford-2/
LOCATION:Caloundra Power Boat Club\, 2 Lamerough Parade\, Golden Beach\, QLD\, 4551\, Australia
CATEGORIES:Entertainment,Events & Live Music
ATTACH;FMTTYPE=image/jpeg:https://www.caloundrapowerboat.com.au/wp-content/uploads/2025/08/Andrew-Redford.jpg
END:VEVENT
BEGIN:VEVENT
DTSTART;TZID=Australia/Brisbane:20260424T190000
DTEND;TZID=Australia/Brisbane:20260424T220000
DTSTAMP:20260426T010109
CREATED:20251127T075341Z
LAST-MODIFIED:20260326T090242Z
UID:10007325-1777057200-1777068000@www.caloundrapowerboat.com.au
SUMMARY:Mars Maddex
DESCRIPTION:Live Music 7pm to 10pm
URL:https://www.caloundrapowerboat.com.au/event/mars-maddex/
LOCATION:Caloundra Power Boat Club\, 2 Lamerough Parade\, Golden Beach\, QLD\, 4551\, Australia
CATEGORIES:Entertainment,Events & Live Music
ATTACH;FMTTYPE=image/jpeg:https://www.caloundrapowerboat.com.au/wp-content/uploads/2025/04/15.jpg
END:VEVENT
BEGIN:VEVENT
DTSTART;TZID=Australia/Brisbane:20260421T183000
DTEND;TZID=Australia/Brisbane:20260421T183000
DTSTAMP:20260426T010109
CREATED:20260414T235651Z
LAST-MODIFIED:20260414T235651Z
UID:10003558-1776796200-1776796200@www.caloundrapowerboat.com.au
SUMMARY:PBC Members Draw
DESCRIPTION:Every Tuesday at 6.30pm & 8pm is the PBC members draw with Jackpot starting at $5\,000 (T&C’s Apply).
URL:https://www.caloundrapowerboat.com.au/event/pbc-members-draw-5/
LOCATION:Caloundra Power Boat Club\, 2 Lamerough Parade\, Golden Beach\, QLD\, 4551\, Australia
CATEGORIES:2'S Day Tuesday,Entertainment,Events,PBC Members
ATTACH;FMTTYPE=image/jpeg:https://www.caloundrapowerboat.com.au/wp-content/uploads/2024/11/7200.jpg
END:VEVENT
BEGIN:VEVENT
DTSTART;TZID=Australia/Brisbane:20260419T133000
DTEND;TZID=Australia/Brisbane:20260419T163000
DTSTAMP:20260426T010109
CREATED:20260220T224450Z
LAST-MODIFIED:20260326T090200Z
UID:10007410-1776605400-1776616200@www.caloundrapowerboat.com.au
SUMMARY:Marco
DESCRIPTION:Live Music 1.30pm to 4.30pm
URL:https://www.caloundrapowerboat.com.au/event/marco-3/
LOCATION:Caloundra Power Boat Club\, 2 Lamerough Parade\, Golden Beach\, QLD\, 4551\, Australia
CATEGORIES:Entertainment,Events & Live Music
ATTACH;FMTTYPE=image/png:https://www.caloundrapowerboat.com.au/wp-content/uploads/2025/07/Screenshot-2025-07-30-at-7.37.51-pm.png
END:VEVENT
BEGIN:VEVENT
DTSTART;TZID=Australia/Brisbane:20260417T190000
DTEND;TZID=Australia/Brisbane:20260417T220000
DTSTAMP:20260426T010109
CREATED:20260220T224119Z
LAST-MODIFIED:20260326T085951Z
UID:10007406-1776452400-1776463200@www.caloundrapowerboat.com.au
SUMMARY:dRAMA qUEEN
DESCRIPTION:Live Music 7pm to 10pm
URL:https://www.caloundrapowerboat.com.au/event/drama-queen/
LOCATION:Caloundra Power Boat Club\, 2 Lamerough Parade\, Golden Beach\, QLD\, 4551\, Australia
CATEGORIES:Entertainment,Events & Live Music
ATTACH;FMTTYPE=image/jpeg:https://www.caloundrapowerboat.com.au/wp-content/uploads/2025/10/1.jpg
END:VEVENT
BEGIN:VEVENT
DTSTART;TZID=Australia/Brisbane:20260414T183000
DTEND;TZID=Australia/Brisbane:20260414T183000
DTSTAMP:20260426T010109
CREATED:20260401T033539Z
LAST-MODIFIED:20260408T010911Z
UID:10003557-1776191400-1776191400@www.caloundrapowerboat.com.au
SUMMARY:PBC Members Draw
DESCRIPTION:Every Tuesday at 6.30pm & 8pm is the PBC members draw with Jackpot starting at $5\,000 (T&C’s Apply).
URL:https://www.caloundrapowerboat.com.au/event/pbc-members-draw-8/
LOCATION:Caloundra Power Boat Club\, 2 Lamerough Parade\, Golden Beach\, QLD\, 4551\, Australia
CATEGORIES:2'S Day Tuesday,Entertainment,Events,PBC Members
ATTACH;FMTTYPE=image/jpeg:https://www.caloundrapowerboat.com.au/wp-content/uploads/2024/11/7000.jpg
END:VEVENT
BEGIN:VEVENT
DTSTART;TZID=Australia/Brisbane:20260412T133000
DTEND;TZID=Australia/Brisbane:20260412T163000
DTSTAMP:20260426T010109
CREATED:20260326T085843Z
LAST-MODIFIED:20260326T085854Z
UID:10007958-1776000600-1776011400@www.caloundrapowerboat.com.au
SUMMARY:Colin Dodds
DESCRIPTION:Live Music 1.30pm to 4.30pm
URL:https://www.caloundrapowerboat.com.au/event/colin-dodds-2/
LOCATION:Caloundra Power Boat Club\, 2 Lamerough Parade\, Golden Beach\, QLD\, 4551\, Australia
CATEGORIES:Entertainment,Events & Live Music
ATTACH;FMTTYPE=image/jpeg:https://www.caloundrapowerboat.com.au/wp-content/uploads/2025/04/4.jpg
END:VEVENT
BEGIN:VEVENT
DTSTART;TZID=Australia/Brisbane:20260411T190000
DTEND;TZID=Australia/Brisbane:20260411T220000
DTSTAMP:20260426T010109
CREATED:20260326T083136Z
LAST-MODIFIED:20260326T085701Z
UID:10007957-1775934000-1775944800@www.caloundrapowerboat.com.au
SUMMARY:Shane Wilkinson
DESCRIPTION:Live Music 7pm to 10pm
URL:https://www.caloundrapowerboat.com.au/event/shane-wilkinson/
LOCATION:Caloundra Power Boat Club\, 2 Lamerough Parade\, Golden Beach\, QLD\, 4551\, Australia
CATEGORIES:Entertainment,Events & Live Music
ATTACH;FMTTYPE=image/png:https://www.caloundrapowerboat.com.au/wp-content/uploads/2025/04/Shane-Wilkinson.png
END:VEVENT
BEGIN:VEVENT
DTSTART;TZID=Australia/Brisbane:20260410T190000
DTEND;TZID=Australia/Brisbane:20260410T220000
DTSTAMP:20260426T010109
CREATED:20260220T223527Z
LAST-MODIFIED:20260326T082754Z
UID:10007402-1775847600-1775858400@www.caloundrapowerboat.com.au
SUMMARY:Paul Keys
DESCRIPTION:Live Music 7pm to 10pm
URL:https://www.caloundrapowerboat.com.au/event/paul-keys/
LOCATION:Caloundra Power Boat Club\, 2 Lamerough Parade\, Golden Beach\, QLD\, 4551\, Australia
CATEGORIES:Entertainment,Events & Live Music
ATTACH;FMTTYPE=image/png:https://www.caloundrapowerboat.com.au/wp-content/uploads/2026/01/Paul-Keys.png
END:VEVENT
BEGIN:VEVENT
DTSTART;TZID=Australia/Brisbane:20260407T183000
DTEND;TZID=Australia/Brisbane:20260407T183000
DTSTAMP:20260426T010109
CREATED:20241129T110501Z
LAST-MODIFIED:20251121T064900Z
UID:10003556-1775586600-1775586600@www.caloundrapowerboat.com.au
SUMMARY:PBC Members Draw
DESCRIPTION:Every Tuesday at 6.30pm & 8pm is the PBC members draw with Jackpot starting at $5\,000 (T&C’s Apply).
URL:https://www.caloundrapowerboat.com.au/event/pbc-members-draw/2026-04-07/
LOCATION:Caloundra Power Boat Club\, 2 Lamerough Parade\, Golden Beach\, QLD\, 4551\, Australia
CATEGORIES:2'S Day Tuesday,Entertainment,Events,PBC Members
ATTACH;FMTTYPE=image/jpeg:https://www.caloundrapowerboat.com.au/wp-content/uploads/2024/11/MEMBERS-JACKPOT-ODD-NUMBERS-LANDSCAPE.jpg
END:VEVENT
BEGIN:VEVENT
DTSTART;TZID=Australia/Brisbane:20260405T133000
DTEND;TZID=Australia/Brisbane:20260405T163000
DTSTAMP:20260426T010109
CREATED:20260326T082536Z
LAST-MODIFIED:20260326T082536Z
UID:10007956-1775395800-1775406600@www.caloundrapowerboat.com.au
SUMMARY:Hannah Rose
DESCRIPTION:Live Music 1.30pm to 4.30pm
URL:https://www.caloundrapowerboat.com.au/event/hannah-rose/
LOCATION:Caloundra Power Boat Club\, 2 Lamerough Parade\, Golden Beach\, QLD\, 4551\, Australia
CATEGORIES:Entertainment,Events & Live Music
ATTACH;FMTTYPE=image/jpeg:https://www.caloundrapowerboat.com.au/wp-content/uploads/2026/03/Hannah-Rose.jpg
END:VEVENT
BEGIN:VEVENT
DTSTART;TZID=Australia/Brisbane:20260404T190000
DTEND;TZID=Australia/Brisbane:20260404T220000
DTSTAMP:20260426T010109
CREATED:20260326T082420Z
LAST-MODIFIED:20260326T082420Z
UID:10007955-1775329200-1775340000@www.caloundrapowerboat.com.au
SUMMARY:Gypsy
DESCRIPTION:Live Music 7pm to 10pm
URL:https://www.caloundrapowerboat.com.au/event/gypsy/
LOCATION:Caloundra Power Boat Club\, 2 Lamerough Parade\, Golden Beach\, QLD\, 4551\, Australia
CATEGORIES:Entertainment,Events & Live Music
ATTACH;FMTTYPE=image/jpeg:https://www.caloundrapowerboat.com.au/wp-content/uploads/2026/03/Gypsy.jpg
END:VEVENT
BEGIN:VEVENT
DTSTART;TZID=Australia/Brisbane:20260331T183000
DTEND;TZID=Australia/Brisbane:20260331T183000
DTSTAMP:20260426T010109
CREATED:20260325T061435Z
LAST-MODIFIED:20260325T061435Z
UID:10003555-1774981800-1774981800@www.caloundrapowerboat.com.au
SUMMARY:PBC Members Draw
DESCRIPTION:Every Tuesday at 6.30pm & 8pm is the PBC members draw with Jackpot starting at $5\,000 (T&C’s Apply).
URL:https://www.caloundrapowerboat.com.au/event/pbc-members-draw-4/
LOCATION:Caloundra Power Boat Club\, 2 Lamerough Parade\, Golden Beach\, QLD\, 4551\, Australia
CATEGORIES:2'S Day Tuesday,Entertainment,Events,PBC Members
ATTACH;FMTTYPE=image/jpeg:https://www.caloundrapowerboat.com.au/wp-content/uploads/2024/11/6600-1.jpg
END:VEVENT
BEGIN:VEVENT
DTSTART;TZID=Australia/Brisbane:20260329T133000
DTEND;TZID=Australia/Brisbane:20260329T163000
DTSTAMP:20260426T010109
CREATED:20260220T225155Z
LAST-MODIFIED:20260221T012346Z
UID:10007413-1774791000-1774801800@www.caloundrapowerboat.com.au
SUMMARY:Suzie Keenan
DESCRIPTION:Live Music 1.30pm to 4.30pm
URL:https://www.caloundrapowerboat.com.au/event/suzie-keenan/
LOCATION:Caloundra Power Boat Club\, 2 Lamerough Parade\, Golden Beach\, QLD\, 4551\, Australia
CATEGORIES:Entertainment,Events & Live Music
ATTACH;FMTTYPE=image/jpeg:https://www.caloundrapowerboat.com.au/wp-content/uploads/2026/02/2-copy.jpg
END:VEVENT
BEGIN:VEVENT
DTSTART;TZID=Australia/Brisbane:20260328T190000
DTEND;TZID=Australia/Brisbane:20260328T220000
DTSTAMP:20260426T010109
CREATED:20260220T225107Z
LAST-MODIFIED:20260221T012429Z
UID:10007412-1774724400-1774735200@www.caloundrapowerboat.com.au
SUMMARY:Roger Boum
DESCRIPTION:Live Music 7pm to 10pm
URL:https://www.caloundrapowerboat.com.au/event/roger-boum/
LOCATION:Caloundra Power Boat Club\, 2 Lamerough Parade\, Golden Beach\, QLD\, 4551\, Australia
CATEGORIES:Entertainment,Events & Live Music
ATTACH;FMTTYPE=image/jpeg:https://www.caloundrapowerboat.com.au/wp-content/uploads/2026/02/3-copy.jpg
END:VEVENT
BEGIN:VEVENT
DTSTART;TZID=Australia/Brisbane:20260327T190000
DTEND;TZID=Australia/Brisbane:20260327T220000
DTSTAMP:20260426T010109
CREATED:20260220T224607Z
LAST-MODIFIED:20260220T224607Z
UID:10007411-1774638000-1774648800@www.caloundrapowerboat.com.au
SUMMARY:Andrew Redford
DESCRIPTION:Live Music 7pm to 10pm
URL:https://www.caloundrapowerboat.com.au/event/andrew-redford/
LOCATION:Caloundra Power Boat Club\, 2 Lamerough Parade\, Golden Beach\, QLD\, 4551\, Australia
CATEGORIES:Entertainment,Events & Live Music
ATTACH;FMTTYPE=image/jpeg:https://www.caloundrapowerboat.com.au/wp-content/uploads/2025/08/Andrew-Redford.jpg
END:VEVENT
END:VCALENDAR