BEGIN:VCALENDAR
VERSION:2.0
PRODID:-//Caloundra Power Boat Club - ECPv6.8.2.1//NONSGML v1.0//EN
CALSCALE:GREGORIAN
METHOD:PUBLISH
X-ORIGINAL-URL:https://www.caloundrapowerboat.com.au
X-WR-CALDESC:Events for Caloundra Power Boat Club
REFRESH-INTERVAL;VALUE=DURATION:PT1H
X-Robots-Tag:noindex
X-PUBLISHED-TTL:PT1H
BEGIN:VTIMEZONE
TZID:Australia/Brisbane
BEGIN:STANDARD
TZOFFSETFROM:+1000
TZOFFSETTO:+1000
TZNAME:AEST
DTSTART:20260101T000000
END:STANDARD
END:VTIMEZONE
BEGIN:VEVENT
DTSTART;TZID=Australia/Brisbane:20260425T190000
DTEND;TZID=Australia/Brisbane:20260425T220000
DTSTAMP:20260425T233011
CREATED:20260326T090425Z
LAST-MODIFIED:20260326T090425Z
UID:10007959-1777143600-1777154400@www.caloundrapowerboat.com.au
SUMMARY:Andrew Redford
DESCRIPTION:Live Music 7pm to 10pm
URL:https://www.caloundrapowerboat.com.au/event/andrew-redford-2/
LOCATION:Caloundra Power Boat Club\, 2 Lamerough Parade\, Golden Beach\, QLD\, 4551\, Australia
CATEGORIES:Entertainment,Events & Live Music
ATTACH;FMTTYPE=image/jpeg:https://www.caloundrapowerboat.com.au/wp-content/uploads/2025/08/Andrew-Redford.jpg
END:VEVENT
BEGIN:VEVENT
DTSTART;TZID=Australia/Brisbane:20260426T133000
DTEND;TZID=Australia/Brisbane:20260426T163000
DTSTAMP:20260425T233011
CREATED:20260326T090616Z
LAST-MODIFIED:20260326T090632Z
UID:10007960-1777210200-1777221000@www.caloundrapowerboat.com.au
SUMMARY:Luke Speerin
DESCRIPTION:Live Music 1.30pm to 4.30pm
URL:https://www.caloundrapowerboat.com.au/event/luke-speerin/
LOCATION:Caloundra Power Boat Club\, 2 Lamerough Parade\, Golden Beach\, QLD\, 4551\, Australia
CATEGORIES:Entertainment,Events & Live Music
ATTACH;FMTTYPE=image/jpeg:https://www.caloundrapowerboat.com.au/wp-content/uploads/2025/06/9.jpg
END:VEVENT
BEGIN:VEVENT
DTSTART;TZID=Australia/Brisbane:20260428T183000
DTEND;TZID=Australia/Brisbane:20260428T183000
DTSTAMP:20260425T233011
CREATED:20260422T010414Z
LAST-MODIFIED:20260422T010419Z
UID:10003559-1777401000-1777401000@www.caloundrapowerboat.com.au
SUMMARY:PBC Members Draw
DESCRIPTION:Every Tuesday at 6.30pm & 8pm is the PBC members draw with Jackpot starting at $5\,000 (T&C’s Apply).
URL:https://www.caloundrapowerboat.com.au/event/pbc-members-draw-6/
LOCATION:Caloundra Power Boat Club\, 2 Lamerough Parade\, Golden Beach\, QLD\, 4551\, Australia
CATEGORIES:2'S Day Tuesday,Entertainment,Events,PBC Members
ATTACH;FMTTYPE=image/jpeg:https://www.caloundrapowerboat.com.au/wp-content/uploads/2024/11/7400.jpg
END:VEVENT
END:VCALENDAR