BEGIN:VCALENDAR
VERSION:2.0
PRODID:-//Caloundra Power Boat Club - ECPv6.8.2.1//NONSGML v1.0//EN
CALSCALE:GREGORIAN
METHOD:PUBLISH
X-WR-CALNAME:Caloundra Power Boat Club
X-ORIGINAL-URL:https://www.caloundrapowerboat.com.au
X-WR-CALDESC:Events for Caloundra Power Boat Club
REFRESH-INTERVAL;VALUE=DURATION:PT1H
X-Robots-Tag:noindex
X-PUBLISHED-TTL:PT1H
BEGIN:VTIMEZONE
TZID:Australia/Brisbane
BEGIN:STANDARD
TZOFFSETFROM:+1000
TZOFFSETTO:+1000
TZNAME:AEST
DTSTART:20270101T000000
END:STANDARD
END:VTIMEZONE
BEGIN:VEVENT
DTSTART;TZID=Australia/Brisbane:20270101T170000
DTEND;TZID=Australia/Brisbane:20270101T190000
DTSTAMP:20260420T081457
CREATED:20250515T070631Z
LAST-MODIFIED:20260223T000240Z
UID:10005921-1798822800-1798830000@www.caloundrapowerboat.com.au
SUMMARY:Fishing Club Raffles
DESCRIPTION:
URL:https://www.caloundrapowerboat.com.au/event/fishing-club-raffles/2027-01-01/
LOCATION:Caloundra Power Boat Club\, 2 Lamerough Parade\, Golden Beach\, QLD\, 4551\, Australia
END:VEVENT
BEGIN:VEVENT
DTSTART;TZID=Australia/Brisbane:20270103T120000
DTEND;TZID=Australia/Brisbane:20270103T130000
DTSTAMP:20260420T081457
CREATED:20250224T184845Z
LAST-MODIFIED:20250307T065205Z
UID:10004588-1798977600-1798981200@www.caloundrapowerboat.com.au
SUMMARY:Outrigger Raffles
DESCRIPTION:Outrigger Raffles every Sundays from 12pm til around 1pm
URL:https://www.caloundrapowerboat.com.au/event/outrigger-raffles/2027-01-03/
LOCATION:Caloundra Power Boat Club\, 2 Lamerough Parade\, Golden Beach\, QLD\, 4551\, Australia
CATEGORIES:Coast Guard Raffles
ATTACH;FMTTYPE=image/webp:https://www.caloundrapowerboat.com.au/wp-content/uploads/2025/02/OCCC-1.webp
END:VEVENT
BEGIN:VEVENT
DTSTART;TZID=Australia/Brisbane:20270103T120000
DTEND;TZID=Australia/Brisbane:20270103T180000
DTSTAMP:20260420T081457
CREATED:20260323T001623Z
LAST-MODIFIED:20260415T065000Z
UID:10007733-1798977600-1798999200@www.caloundrapowerboat.com.au
SUMMARY:Sunday Kick-off!
DESCRIPTION:SUNDAY KICK-OFF!LIVE FROM THE QUARTERDECK! \nCatch all your favourite games live from 12pm – 6pm every Sunday from the Quarterdeck!\nEnjoy all the action streaming live on FOX SPORTS! \nEVERY SUNDAY FROM 12PM
URL:https://www.caloundrapowerboat.com.au/event/sunday-kick-off/2027-01-03/
LOCATION:Caloundra Power Boat Club\, 2 Lamerough Parade\, Golden Beach\, QLD\, 4551\, Australia
CATEGORIES:Events,Events & Live Music
ATTACH;FMTTYPE=image/jpeg:https://www.caloundrapowerboat.com.au/wp-content/uploads/2026/03/Footy-Screens-5.jpg
END:VEVENT
BEGIN:VEVENT
DTSTART;TZID=Australia/Brisbane:20270104T173000
DTEND;TZID=Australia/Brisbane:20270104T183000
DTSTAMP:20260420T081457
CREATED:20260227T014451Z
LAST-MODIFIED:20260227T025407Z
UID:10007466-1799083800-1799087400@www.caloundrapowerboat.com.au
SUMMARY:Ladies Social Golf Club Raffles
DESCRIPTION:Ladies Social Golf Club Raffles\nEvery Monday from 5.30pm\nDrawn at 6.25pm
URL:https://www.caloundrapowerboat.com.au/event/ladies-social-golf-club-raffles/2027-01-04/
LOCATION:Caloundra Power Boat Club\, 2 Lamerough Parade\, Golden Beach\, QLD\, 4551\, Australia
CATEGORIES:Internal Clubs
END:VEVENT
BEGIN:VEVENT
DTSTART;TZID=Australia/Brisbane:20270106T170000
DTEND;TZID=Australia/Brisbane:20270106T190000
DTSTAMP:20260420T081457
CREATED:20250515T070536Z
LAST-MODIFIED:20251212T050310Z
UID:10005660-1799254800-1799262000@www.caloundrapowerboat.com.au
SUMMARY:Golf Club Raffles
DESCRIPTION:
URL:https://www.caloundrapowerboat.com.au/event/golf-club-raffles-3/2027-01-06/
LOCATION:Caloundra Power Boat Club\, 2 Lamerough Parade\, Golden Beach\, QLD\, 4551\, Australia
CATEGORIES:Events,Internal Clubs
END:VEVENT
BEGIN:VEVENT
DTSTART;TZID=Australia/Brisbane:20270108T170000
DTEND;TZID=Australia/Brisbane:20270108T190000
DTSTAMP:20260420T081457
CREATED:20250515T070631Z
LAST-MODIFIED:20260223T000240Z
UID:10005922-1799427600-1799434800@www.caloundrapowerboat.com.au
SUMMARY:Fishing Club Raffles
DESCRIPTION:
URL:https://www.caloundrapowerboat.com.au/event/fishing-club-raffles/2027-01-08/
LOCATION:Caloundra Power Boat Club\, 2 Lamerough Parade\, Golden Beach\, QLD\, 4551\, Australia
END:VEVENT
BEGIN:VEVENT
DTSTART;TZID=Australia/Brisbane:20270110T120000
DTEND;TZID=Australia/Brisbane:20270110T130000
DTSTAMP:20260420T081457
CREATED:20250224T184845Z
LAST-MODIFIED:20250307T065205Z
UID:10004589-1799582400-1799586000@www.caloundrapowerboat.com.au
SUMMARY:Outrigger Raffles
DESCRIPTION:Outrigger Raffles every Sundays from 12pm til around 1pm
URL:https://www.caloundrapowerboat.com.au/event/outrigger-raffles/2027-01-10/
LOCATION:Caloundra Power Boat Club\, 2 Lamerough Parade\, Golden Beach\, QLD\, 4551\, Australia
CATEGORIES:Coast Guard Raffles
ATTACH;FMTTYPE=image/webp:https://www.caloundrapowerboat.com.au/wp-content/uploads/2025/02/OCCC-1.webp
END:VEVENT
BEGIN:VEVENT
DTSTART;TZID=Australia/Brisbane:20270110T120000
DTEND;TZID=Australia/Brisbane:20270110T180000
DTSTAMP:20260420T081457
CREATED:20260323T001623Z
LAST-MODIFIED:20260415T065000Z
UID:10007734-1799582400-1799604000@www.caloundrapowerboat.com.au
SUMMARY:Sunday Kick-off!
DESCRIPTION:SUNDAY KICK-OFF!LIVE FROM THE QUARTERDECK! \nCatch all your favourite games live from 12pm – 6pm every Sunday from the Quarterdeck!\nEnjoy all the action streaming live on FOX SPORTS! \nEVERY SUNDAY FROM 12PM
URL:https://www.caloundrapowerboat.com.au/event/sunday-kick-off/2027-01-10/
LOCATION:Caloundra Power Boat Club\, 2 Lamerough Parade\, Golden Beach\, QLD\, 4551\, Australia
CATEGORIES:Events,Events & Live Music
ATTACH;FMTTYPE=image/jpeg:https://www.caloundrapowerboat.com.au/wp-content/uploads/2026/03/Footy-Screens-5.jpg
END:VEVENT
BEGIN:VEVENT
DTSTART;TZID=Australia/Brisbane:20270111T173000
DTEND;TZID=Australia/Brisbane:20270111T183000
DTSTAMP:20260420T081457
CREATED:20260227T014451Z
LAST-MODIFIED:20260227T025407Z
UID:10007467-1799688600-1799692200@www.caloundrapowerboat.com.au
SUMMARY:Ladies Social Golf Club Raffles
DESCRIPTION:Ladies Social Golf Club Raffles\nEvery Monday from 5.30pm\nDrawn at 6.25pm
URL:https://www.caloundrapowerboat.com.au/event/ladies-social-golf-club-raffles/2027-01-11/
LOCATION:Caloundra Power Boat Club\, 2 Lamerough Parade\, Golden Beach\, QLD\, 4551\, Australia
CATEGORIES:Internal Clubs
END:VEVENT
BEGIN:VEVENT
DTSTART;TZID=Australia/Brisbane:20270113T170000
DTEND;TZID=Australia/Brisbane:20270113T190000
DTSTAMP:20260420T081457
CREATED:20250515T070536Z
LAST-MODIFIED:20251212T050310Z
UID:10005661-1799859600-1799866800@www.caloundrapowerboat.com.au
SUMMARY:Golf Club Raffles
DESCRIPTION:
URL:https://www.caloundrapowerboat.com.au/event/golf-club-raffles-3/2027-01-13/
LOCATION:Caloundra Power Boat Club\, 2 Lamerough Parade\, Golden Beach\, QLD\, 4551\, Australia
CATEGORIES:Events,Internal Clubs
END:VEVENT
BEGIN:VEVENT
DTSTART;TZID=Australia/Brisbane:20270115T170000
DTEND;TZID=Australia/Brisbane:20270115T190000
DTSTAMP:20260420T081457
CREATED:20250515T070631Z
LAST-MODIFIED:20260223T000240Z
UID:10005923-1800032400-1800039600@www.caloundrapowerboat.com.au
SUMMARY:Fishing Club Raffles
DESCRIPTION:
URL:https://www.caloundrapowerboat.com.au/event/fishing-club-raffles/2027-01-15/
LOCATION:Caloundra Power Boat Club\, 2 Lamerough Parade\, Golden Beach\, QLD\, 4551\, Australia
END:VEVENT
BEGIN:VEVENT
DTSTART;TZID=Australia/Brisbane:20270117T120000
DTEND;TZID=Australia/Brisbane:20270117T130000
DTSTAMP:20260420T081457
CREATED:20250224T184845Z
LAST-MODIFIED:20250307T065205Z
UID:10004590-1800187200-1800190800@www.caloundrapowerboat.com.au
SUMMARY:Outrigger Raffles
DESCRIPTION:Outrigger Raffles every Sundays from 12pm til around 1pm
URL:https://www.caloundrapowerboat.com.au/event/outrigger-raffles/2027-01-17/
LOCATION:Caloundra Power Boat Club\, 2 Lamerough Parade\, Golden Beach\, QLD\, 4551\, Australia
CATEGORIES:Coast Guard Raffles
ATTACH;FMTTYPE=image/webp:https://www.caloundrapowerboat.com.au/wp-content/uploads/2025/02/OCCC-1.webp
END:VEVENT
BEGIN:VEVENT
DTSTART;TZID=Australia/Brisbane:20270117T120000
DTEND;TZID=Australia/Brisbane:20270117T180000
DTSTAMP:20260420T081457
CREATED:20260323T001623Z
LAST-MODIFIED:20260415T065000Z
UID:10007735-1800187200-1800208800@www.caloundrapowerboat.com.au
SUMMARY:Sunday Kick-off!
DESCRIPTION:SUNDAY KICK-OFF!LIVE FROM THE QUARTERDECK! \nCatch all your favourite games live from 12pm – 6pm every Sunday from the Quarterdeck!\nEnjoy all the action streaming live on FOX SPORTS! \nEVERY SUNDAY FROM 12PM
URL:https://www.caloundrapowerboat.com.au/event/sunday-kick-off/2027-01-17/
LOCATION:Caloundra Power Boat Club\, 2 Lamerough Parade\, Golden Beach\, QLD\, 4551\, Australia
CATEGORIES:Events,Events & Live Music
ATTACH;FMTTYPE=image/jpeg:https://www.caloundrapowerboat.com.au/wp-content/uploads/2026/03/Footy-Screens-5.jpg
END:VEVENT
BEGIN:VEVENT
DTSTART;TZID=Australia/Brisbane:20270118T173000
DTEND;TZID=Australia/Brisbane:20270118T183000
DTSTAMP:20260420T081457
CREATED:20260227T014451Z
LAST-MODIFIED:20260227T025407Z
UID:10007468-1800293400-1800297000@www.caloundrapowerboat.com.au
SUMMARY:Ladies Social Golf Club Raffles
DESCRIPTION:Ladies Social Golf Club Raffles\nEvery Monday from 5.30pm\nDrawn at 6.25pm
URL:https://www.caloundrapowerboat.com.au/event/ladies-social-golf-club-raffles/2027-01-18/
LOCATION:Caloundra Power Boat Club\, 2 Lamerough Parade\, Golden Beach\, QLD\, 4551\, Australia
CATEGORIES:Internal Clubs
END:VEVENT
BEGIN:VEVENT
DTSTART;TZID=Australia/Brisbane:20270120T170000
DTEND;TZID=Australia/Brisbane:20270120T190000
DTSTAMP:20260420T081457
CREATED:20250515T070536Z
LAST-MODIFIED:20251212T050310Z
UID:10005662-1800464400-1800471600@www.caloundrapowerboat.com.au
SUMMARY:Golf Club Raffles
DESCRIPTION:
URL:https://www.caloundrapowerboat.com.au/event/golf-club-raffles-3/2027-01-20/
LOCATION:Caloundra Power Boat Club\, 2 Lamerough Parade\, Golden Beach\, QLD\, 4551\, Australia
CATEGORIES:Events,Internal Clubs
END:VEVENT
BEGIN:VEVENT
DTSTART;TZID=Australia/Brisbane:20270122T170000
DTEND;TZID=Australia/Brisbane:20270122T190000
DTSTAMP:20260420T081457
CREATED:20250515T070631Z
LAST-MODIFIED:20260223T000240Z
UID:10005924-1800637200-1800644400@www.caloundrapowerboat.com.au
SUMMARY:Fishing Club Raffles
DESCRIPTION:
URL:https://www.caloundrapowerboat.com.au/event/fishing-club-raffles/2027-01-22/
LOCATION:Caloundra Power Boat Club\, 2 Lamerough Parade\, Golden Beach\, QLD\, 4551\, Australia
END:VEVENT
BEGIN:VEVENT
DTSTART;TZID=Australia/Brisbane:20270124T120000
DTEND;TZID=Australia/Brisbane:20270124T130000
DTSTAMP:20260420T081457
CREATED:20250224T184845Z
LAST-MODIFIED:20250307T065205Z
UID:10004591-1800792000-1800795600@www.caloundrapowerboat.com.au
SUMMARY:Outrigger Raffles
DESCRIPTION:Outrigger Raffles every Sundays from 12pm til around 1pm
URL:https://www.caloundrapowerboat.com.au/event/outrigger-raffles/2027-01-24/
LOCATION:Caloundra Power Boat Club\, 2 Lamerough Parade\, Golden Beach\, QLD\, 4551\, Australia
CATEGORIES:Coast Guard Raffles
ATTACH;FMTTYPE=image/webp:https://www.caloundrapowerboat.com.au/wp-content/uploads/2025/02/OCCC-1.webp
END:VEVENT
BEGIN:VEVENT
DTSTART;TZID=Australia/Brisbane:20270124T120000
DTEND;TZID=Australia/Brisbane:20270124T180000
DTSTAMP:20260420T081457
CREATED:20260323T001623Z
LAST-MODIFIED:20260415T065000Z
UID:10007736-1800792000-1800813600@www.caloundrapowerboat.com.au
SUMMARY:Sunday Kick-off!
DESCRIPTION:SUNDAY KICK-OFF!LIVE FROM THE QUARTERDECK! \nCatch all your favourite games live from 12pm – 6pm every Sunday from the Quarterdeck!\nEnjoy all the action streaming live on FOX SPORTS! \nEVERY SUNDAY FROM 12PM
URL:https://www.caloundrapowerboat.com.au/event/sunday-kick-off/2027-01-24/
LOCATION:Caloundra Power Boat Club\, 2 Lamerough Parade\, Golden Beach\, QLD\, 4551\, Australia
CATEGORIES:Events,Events & Live Music
ATTACH;FMTTYPE=image/jpeg:https://www.caloundrapowerboat.com.au/wp-content/uploads/2026/03/Footy-Screens-5.jpg
END:VEVENT
BEGIN:VEVENT
DTSTART;TZID=Australia/Brisbane:20270125T173000
DTEND;TZID=Australia/Brisbane:20270125T183000
DTSTAMP:20260420T081457
CREATED:20260227T014451Z
LAST-MODIFIED:20260227T025407Z
UID:10007469-1800898200-1800901800@www.caloundrapowerboat.com.au
SUMMARY:Ladies Social Golf Club Raffles
DESCRIPTION:Ladies Social Golf Club Raffles\nEvery Monday from 5.30pm\nDrawn at 6.25pm
URL:https://www.caloundrapowerboat.com.au/event/ladies-social-golf-club-raffles/2027-01-25/
LOCATION:Caloundra Power Boat Club\, 2 Lamerough Parade\, Golden Beach\, QLD\, 4551\, Australia
CATEGORIES:Internal Clubs
END:VEVENT
BEGIN:VEVENT
DTSTART;TZID=Australia/Brisbane:20270127T170000
DTEND;TZID=Australia/Brisbane:20270127T190000
DTSTAMP:20260420T081457
CREATED:20250515T070536Z
LAST-MODIFIED:20251212T050310Z
UID:10005663-1801069200-1801076400@www.caloundrapowerboat.com.au
SUMMARY:Golf Club Raffles
DESCRIPTION:
URL:https://www.caloundrapowerboat.com.au/event/golf-club-raffles-3/2027-01-27/
LOCATION:Caloundra Power Boat Club\, 2 Lamerough Parade\, Golden Beach\, QLD\, 4551\, Australia
CATEGORIES:Events,Internal Clubs
END:VEVENT
BEGIN:VEVENT
DTSTART;TZID=Australia/Brisbane:20270129T170000
DTEND;TZID=Australia/Brisbane:20270129T190000
DTSTAMP:20260420T081457
CREATED:20250515T070631Z
LAST-MODIFIED:20260223T000240Z
UID:10005925-1801242000-1801249200@www.caloundrapowerboat.com.au
SUMMARY:Fishing Club Raffles
DESCRIPTION:
URL:https://www.caloundrapowerboat.com.au/event/fishing-club-raffles/2027-01-29/
LOCATION:Caloundra Power Boat Club\, 2 Lamerough Parade\, Golden Beach\, QLD\, 4551\, Australia
END:VEVENT
BEGIN:VEVENT
DTSTART;TZID=Australia/Brisbane:20270131T120000
DTEND;TZID=Australia/Brisbane:20270131T130000
DTSTAMP:20260420T081457
CREATED:20250224T184845Z
LAST-MODIFIED:20250307T065205Z
UID:10004592-1801396800-1801400400@www.caloundrapowerboat.com.au
SUMMARY:Outrigger Raffles
DESCRIPTION:Outrigger Raffles every Sundays from 12pm til around 1pm
URL:https://www.caloundrapowerboat.com.au/event/outrigger-raffles/2027-01-31/
LOCATION:Caloundra Power Boat Club\, 2 Lamerough Parade\, Golden Beach\, QLD\, 4551\, Australia
CATEGORIES:Coast Guard Raffles
ATTACH;FMTTYPE=image/webp:https://www.caloundrapowerboat.com.au/wp-content/uploads/2025/02/OCCC-1.webp
END:VEVENT
BEGIN:VEVENT
DTSTART;TZID=Australia/Brisbane:20270131T120000
DTEND;TZID=Australia/Brisbane:20270131T180000
DTSTAMP:20260420T081457
CREATED:20260323T001623Z
LAST-MODIFIED:20260415T065000Z
UID:10007737-1801396800-1801418400@www.caloundrapowerboat.com.au
SUMMARY:Sunday Kick-off!
DESCRIPTION:SUNDAY KICK-OFF!LIVE FROM THE QUARTERDECK! \nCatch all your favourite games live from 12pm – 6pm every Sunday from the Quarterdeck!\nEnjoy all the action streaming live on FOX SPORTS! \nEVERY SUNDAY FROM 12PM
URL:https://www.caloundrapowerboat.com.au/event/sunday-kick-off/2027-01-31/
LOCATION:Caloundra Power Boat Club\, 2 Lamerough Parade\, Golden Beach\, QLD\, 4551\, Australia
CATEGORIES:Events,Events & Live Music
ATTACH;FMTTYPE=image/jpeg:https://www.caloundrapowerboat.com.au/wp-content/uploads/2026/03/Footy-Screens-5.jpg
END:VEVENT
END:VCALENDAR