BEGIN:VCALENDAR
VERSION:2.0
PRODID:-//Caloundra Power Boat Club - ECPv6.8.2.1//NONSGML v1.0//EN
CALSCALE:GREGORIAN
METHOD:PUBLISH
X-ORIGINAL-URL:https://www.caloundrapowerboat.com.au
X-WR-CALDESC:Events for Caloundra Power Boat Club
REFRESH-INTERVAL;VALUE=DURATION:PT1H
X-Robots-Tag:noindex
X-PUBLISHED-TTL:PT1H
BEGIN:VTIMEZONE
TZID:Australia/Brisbane
BEGIN:STANDARD
TZOFFSETFROM:+1000
TZOFFSETTO:+1000
TZNAME:AEST
DTSTART:20270101T000000
END:STANDARD
END:VTIMEZONE
BEGIN:VEVENT
DTSTART;TZID=Australia/Brisbane:20270301T173000
DTEND;TZID=Australia/Brisbane:20270301T183000
DTSTAMP:20260420T111025
CREATED:20260227T014451Z
LAST-MODIFIED:20260227T025407Z
UID:10007474-1803922200-1803925800@www.caloundrapowerboat.com.au
SUMMARY:Ladies Social Golf Club Raffles
DESCRIPTION:Ladies Social Golf Club Raffles\nEvery Monday from 5.30pm\nDrawn at 6.25pm
URL:https://www.caloundrapowerboat.com.au/event/ladies-social-golf-club-raffles/2027-03-01/
LOCATION:Caloundra Power Boat Club\, 2 Lamerough Parade\, Golden Beach\, QLD\, 4551\, Australia
CATEGORIES:Internal Clubs
END:VEVENT
BEGIN:VEVENT
DTSTART;TZID=Australia/Brisbane:20270303T170000
DTEND;TZID=Australia/Brisbane:20270303T190000
DTSTAMP:20260420T111025
CREATED:20250515T070536Z
LAST-MODIFIED:20251212T050310Z
UID:10005668-1804093200-1804100400@www.caloundrapowerboat.com.au
SUMMARY:Golf Club Raffles
DESCRIPTION:
URL:https://www.caloundrapowerboat.com.au/event/golf-club-raffles-3/2027-03-03/
LOCATION:Caloundra Power Boat Club\, 2 Lamerough Parade\, Golden Beach\, QLD\, 4551\, Australia
CATEGORIES:Events,Internal Clubs
END:VEVENT
BEGIN:VEVENT
DTSTART;TZID=Australia/Brisbane:20270305T170000
DTEND;TZID=Australia/Brisbane:20270305T190000
DTSTAMP:20260420T111025
CREATED:20250515T070631Z
LAST-MODIFIED:20260223T000240Z
UID:10005930-1804266000-1804273200@www.caloundrapowerboat.com.au
SUMMARY:Fishing Club Raffles
DESCRIPTION:
URL:https://www.caloundrapowerboat.com.au/event/fishing-club-raffles/2027-03-05/
LOCATION:Caloundra Power Boat Club\, 2 Lamerough Parade\, Golden Beach\, QLD\, 4551\, Australia
END:VEVENT
BEGIN:VEVENT
DTSTART;TZID=Australia/Brisbane:20270307T120000
DTEND;TZID=Australia/Brisbane:20270307T130000
DTSTAMP:20260420T111025
CREATED:20250224T184845Z
LAST-MODIFIED:20250307T065205Z
UID:10004597-1804420800-1804424400@www.caloundrapowerboat.com.au
SUMMARY:Outrigger Raffles
DESCRIPTION:Outrigger Raffles every Sundays from 12pm til around 1pm
URL:https://www.caloundrapowerboat.com.au/event/outrigger-raffles/2027-03-07/
LOCATION:Caloundra Power Boat Club\, 2 Lamerough Parade\, Golden Beach\, QLD\, 4551\, Australia
CATEGORIES:Coast Guard Raffles
ATTACH;FMTTYPE=image/webp:https://www.caloundrapowerboat.com.au/wp-content/uploads/2025/02/OCCC-1.webp
END:VEVENT
BEGIN:VEVENT
DTSTART;TZID=Australia/Brisbane:20270307T120000
DTEND;TZID=Australia/Brisbane:20270307T180000
DTSTAMP:20260420T111025
CREATED:20260323T001623Z
LAST-MODIFIED:20260415T065000Z
UID:10007742-1804420800-1804442400@www.caloundrapowerboat.com.au
SUMMARY:Sunday Kick-off!
DESCRIPTION:SUNDAY KICK-OFF!LIVE FROM THE QUARTERDECK! \nCatch all your favourite games live from 12pm – 6pm every Sunday from the Quarterdeck!\nEnjoy all the action streaming live on FOX SPORTS! \nEVERY SUNDAY FROM 12PM
URL:https://www.caloundrapowerboat.com.au/event/sunday-kick-off/2027-03-07/
LOCATION:Caloundra Power Boat Club\, 2 Lamerough Parade\, Golden Beach\, QLD\, 4551\, Australia
CATEGORIES:Events,Events & Live Music
ATTACH;FMTTYPE=image/jpeg:https://www.caloundrapowerboat.com.au/wp-content/uploads/2026/03/Footy-Screens-5.jpg
END:VEVENT
BEGIN:VEVENT
DTSTART;TZID=Australia/Brisbane:20270308T173000
DTEND;TZID=Australia/Brisbane:20270308T183000
DTSTAMP:20260420T111025
CREATED:20260227T014451Z
LAST-MODIFIED:20260227T025407Z
UID:10007475-1804527000-1804530600@www.caloundrapowerboat.com.au
SUMMARY:Ladies Social Golf Club Raffles
DESCRIPTION:Ladies Social Golf Club Raffles\nEvery Monday from 5.30pm\nDrawn at 6.25pm
URL:https://www.caloundrapowerboat.com.au/event/ladies-social-golf-club-raffles/2027-03-08/
LOCATION:Caloundra Power Boat Club\, 2 Lamerough Parade\, Golden Beach\, QLD\, 4551\, Australia
CATEGORIES:Internal Clubs
END:VEVENT
BEGIN:VEVENT
DTSTART;TZID=Australia/Brisbane:20270310T170000
DTEND;TZID=Australia/Brisbane:20270310T190000
DTSTAMP:20260420T111025
CREATED:20250515T070536Z
LAST-MODIFIED:20251212T050310Z
UID:10005669-1804698000-1804705200@www.caloundrapowerboat.com.au
SUMMARY:Golf Club Raffles
DESCRIPTION:
URL:https://www.caloundrapowerboat.com.au/event/golf-club-raffles-3/2027-03-10/
LOCATION:Caloundra Power Boat Club\, 2 Lamerough Parade\, Golden Beach\, QLD\, 4551\, Australia
CATEGORIES:Events,Internal Clubs
END:VEVENT
BEGIN:VEVENT
DTSTART;TZID=Australia/Brisbane:20270312T170000
DTEND;TZID=Australia/Brisbane:20270312T190000
DTSTAMP:20260420T111025
CREATED:20250515T070631Z
LAST-MODIFIED:20260223T000240Z
UID:10005931-1804870800-1804878000@www.caloundrapowerboat.com.au
SUMMARY:Fishing Club Raffles
DESCRIPTION:
URL:https://www.caloundrapowerboat.com.au/event/fishing-club-raffles/2027-03-12/
LOCATION:Caloundra Power Boat Club\, 2 Lamerough Parade\, Golden Beach\, QLD\, 4551\, Australia
END:VEVENT
BEGIN:VEVENT
DTSTART;TZID=Australia/Brisbane:20270314T120000
DTEND;TZID=Australia/Brisbane:20270314T130000
DTSTAMP:20260420T111025
CREATED:20250224T184845Z
LAST-MODIFIED:20250307T065205Z
UID:10004598-1805025600-1805029200@www.caloundrapowerboat.com.au
SUMMARY:Outrigger Raffles
DESCRIPTION:Outrigger Raffles every Sundays from 12pm til around 1pm
URL:https://www.caloundrapowerboat.com.au/event/outrigger-raffles/2027-03-14/
LOCATION:Caloundra Power Boat Club\, 2 Lamerough Parade\, Golden Beach\, QLD\, 4551\, Australia
CATEGORIES:Coast Guard Raffles
ATTACH;FMTTYPE=image/webp:https://www.caloundrapowerboat.com.au/wp-content/uploads/2025/02/OCCC-1.webp
END:VEVENT
BEGIN:VEVENT
DTSTART;TZID=Australia/Brisbane:20270314T120000
DTEND;TZID=Australia/Brisbane:20270314T180000
DTSTAMP:20260420T111025
CREATED:20260323T001623Z
LAST-MODIFIED:20260415T065000Z
UID:10007743-1805025600-1805047200@www.caloundrapowerboat.com.au
SUMMARY:Sunday Kick-off!
DESCRIPTION:SUNDAY KICK-OFF!LIVE FROM THE QUARTERDECK! \nCatch all your favourite games live from 12pm – 6pm every Sunday from the Quarterdeck!\nEnjoy all the action streaming live on FOX SPORTS! \nEVERY SUNDAY FROM 12PM
URL:https://www.caloundrapowerboat.com.au/event/sunday-kick-off/2027-03-14/
LOCATION:Caloundra Power Boat Club\, 2 Lamerough Parade\, Golden Beach\, QLD\, 4551\, Australia
CATEGORIES:Events,Events & Live Music
ATTACH;FMTTYPE=image/jpeg:https://www.caloundrapowerboat.com.au/wp-content/uploads/2026/03/Footy-Screens-5.jpg
END:VEVENT
BEGIN:VEVENT
DTSTART;TZID=Australia/Brisbane:20270315T173000
DTEND;TZID=Australia/Brisbane:20270315T183000
DTSTAMP:20260420T111025
CREATED:20260227T014451Z
LAST-MODIFIED:20260227T025407Z
UID:10007476-1805131800-1805135400@www.caloundrapowerboat.com.au
SUMMARY:Ladies Social Golf Club Raffles
DESCRIPTION:Ladies Social Golf Club Raffles\nEvery Monday from 5.30pm\nDrawn at 6.25pm
URL:https://www.caloundrapowerboat.com.au/event/ladies-social-golf-club-raffles/2027-03-15/
LOCATION:Caloundra Power Boat Club\, 2 Lamerough Parade\, Golden Beach\, QLD\, 4551\, Australia
CATEGORIES:Internal Clubs
END:VEVENT
BEGIN:VEVENT
DTSTART;TZID=Australia/Brisbane:20270317T170000
DTEND;TZID=Australia/Brisbane:20270317T190000
DTSTAMP:20260420T111025
CREATED:20250515T070536Z
LAST-MODIFIED:20251212T050310Z
UID:10005670-1805302800-1805310000@www.caloundrapowerboat.com.au
SUMMARY:Golf Club Raffles
DESCRIPTION:
URL:https://www.caloundrapowerboat.com.au/event/golf-club-raffles-3/2027-03-17/
LOCATION:Caloundra Power Boat Club\, 2 Lamerough Parade\, Golden Beach\, QLD\, 4551\, Australia
CATEGORIES:Events,Internal Clubs
END:VEVENT
BEGIN:VEVENT
DTSTART;TZID=Australia/Brisbane:20270319T170000
DTEND;TZID=Australia/Brisbane:20270319T190000
DTSTAMP:20260420T111025
CREATED:20250515T070631Z
LAST-MODIFIED:20260223T000240Z
UID:10005932-1805475600-1805482800@www.caloundrapowerboat.com.au
SUMMARY:Fishing Club Raffles
DESCRIPTION:
URL:https://www.caloundrapowerboat.com.au/event/fishing-club-raffles/2027-03-19/
LOCATION:Caloundra Power Boat Club\, 2 Lamerough Parade\, Golden Beach\, QLD\, 4551\, Australia
END:VEVENT
BEGIN:VEVENT
DTSTART;TZID=Australia/Brisbane:20270321T120000
DTEND;TZID=Australia/Brisbane:20270321T130000
DTSTAMP:20260420T111025
CREATED:20250224T184845Z
LAST-MODIFIED:20250307T065205Z
UID:10004599-1805630400-1805634000@www.caloundrapowerboat.com.au
SUMMARY:Outrigger Raffles
DESCRIPTION:Outrigger Raffles every Sundays from 12pm til around 1pm
URL:https://www.caloundrapowerboat.com.au/event/outrigger-raffles/2027-03-21/
LOCATION:Caloundra Power Boat Club\, 2 Lamerough Parade\, Golden Beach\, QLD\, 4551\, Australia
CATEGORIES:Coast Guard Raffles
ATTACH;FMTTYPE=image/webp:https://www.caloundrapowerboat.com.au/wp-content/uploads/2025/02/OCCC-1.webp
END:VEVENT
BEGIN:VEVENT
DTSTART;TZID=Australia/Brisbane:20270321T120000
DTEND;TZID=Australia/Brisbane:20270321T180000
DTSTAMP:20260420T111025
CREATED:20260323T001623Z
LAST-MODIFIED:20260415T065000Z
UID:10007744-1805630400-1805652000@www.caloundrapowerboat.com.au
SUMMARY:Sunday Kick-off!
DESCRIPTION:SUNDAY KICK-OFF!LIVE FROM THE QUARTERDECK! \nCatch all your favourite games live from 12pm – 6pm every Sunday from the Quarterdeck!\nEnjoy all the action streaming live on FOX SPORTS! \nEVERY SUNDAY FROM 12PM
URL:https://www.caloundrapowerboat.com.au/event/sunday-kick-off/2027-03-21/
LOCATION:Caloundra Power Boat Club\, 2 Lamerough Parade\, Golden Beach\, QLD\, 4551\, Australia
CATEGORIES:Events,Events & Live Music
ATTACH;FMTTYPE=image/jpeg:https://www.caloundrapowerboat.com.au/wp-content/uploads/2026/03/Footy-Screens-5.jpg
END:VEVENT
BEGIN:VEVENT
DTSTART;TZID=Australia/Brisbane:20270322T173000
DTEND;TZID=Australia/Brisbane:20270322T183000
DTSTAMP:20260420T111025
CREATED:20260227T014451Z
LAST-MODIFIED:20260227T025407Z
UID:10007477-1805736600-1805740200@www.caloundrapowerboat.com.au
SUMMARY:Ladies Social Golf Club Raffles
DESCRIPTION:Ladies Social Golf Club Raffles\nEvery Monday from 5.30pm\nDrawn at 6.25pm
URL:https://www.caloundrapowerboat.com.au/event/ladies-social-golf-club-raffles/2027-03-22/
LOCATION:Caloundra Power Boat Club\, 2 Lamerough Parade\, Golden Beach\, QLD\, 4551\, Australia
CATEGORIES:Internal Clubs
END:VEVENT
BEGIN:VEVENT
DTSTART;TZID=Australia/Brisbane:20270324T170000
DTEND;TZID=Australia/Brisbane:20270324T190000
DTSTAMP:20260420T111025
CREATED:20250515T070536Z
LAST-MODIFIED:20251212T050310Z
UID:10005671-1805907600-1805914800@www.caloundrapowerboat.com.au
SUMMARY:Golf Club Raffles
DESCRIPTION:
URL:https://www.caloundrapowerboat.com.au/event/golf-club-raffles-3/2027-03-24/
LOCATION:Caloundra Power Boat Club\, 2 Lamerough Parade\, Golden Beach\, QLD\, 4551\, Australia
CATEGORIES:Events,Internal Clubs
END:VEVENT
BEGIN:VEVENT
DTSTART;TZID=Australia/Brisbane:20270326T170000
DTEND;TZID=Australia/Brisbane:20270326T190000
DTSTAMP:20260420T111025
CREATED:20250515T070631Z
LAST-MODIFIED:20260223T000240Z
UID:10005933-1806080400-1806087600@www.caloundrapowerboat.com.au
SUMMARY:Fishing Club Raffles
DESCRIPTION:
URL:https://www.caloundrapowerboat.com.au/event/fishing-club-raffles/2027-03-26/
LOCATION:Caloundra Power Boat Club\, 2 Lamerough Parade\, Golden Beach\, QLD\, 4551\, Australia
END:VEVENT
BEGIN:VEVENT
DTSTART;TZID=Australia/Brisbane:20270328T120000
DTEND;TZID=Australia/Brisbane:20270328T130000
DTSTAMP:20260420T111025
CREATED:20250224T184845Z
LAST-MODIFIED:20250307T065205Z
UID:10004600-1806235200-1806238800@www.caloundrapowerboat.com.au
SUMMARY:Outrigger Raffles
DESCRIPTION:Outrigger Raffles every Sundays from 12pm til around 1pm
URL:https://www.caloundrapowerboat.com.au/event/outrigger-raffles/2027-03-28/
LOCATION:Caloundra Power Boat Club\, 2 Lamerough Parade\, Golden Beach\, QLD\, 4551\, Australia
CATEGORIES:Coast Guard Raffles
ATTACH;FMTTYPE=image/webp:https://www.caloundrapowerboat.com.au/wp-content/uploads/2025/02/OCCC-1.webp
END:VEVENT
BEGIN:VEVENT
DTSTART;TZID=Australia/Brisbane:20270328T120000
DTEND;TZID=Australia/Brisbane:20270328T180000
DTSTAMP:20260420T111025
CREATED:20260323T001623Z
LAST-MODIFIED:20260415T065000Z
UID:10007745-1806235200-1806256800@www.caloundrapowerboat.com.au
SUMMARY:Sunday Kick-off!
DESCRIPTION:SUNDAY KICK-OFF!LIVE FROM THE QUARTERDECK! \nCatch all your favourite games live from 12pm – 6pm every Sunday from the Quarterdeck!\nEnjoy all the action streaming live on FOX SPORTS! \nEVERY SUNDAY FROM 12PM
URL:https://www.caloundrapowerboat.com.au/event/sunday-kick-off/2027-03-28/
LOCATION:Caloundra Power Boat Club\, 2 Lamerough Parade\, Golden Beach\, QLD\, 4551\, Australia
CATEGORIES:Events,Events & Live Music
ATTACH;FMTTYPE=image/jpeg:https://www.caloundrapowerboat.com.au/wp-content/uploads/2026/03/Footy-Screens-5.jpg
END:VEVENT
BEGIN:VEVENT
DTSTART;TZID=Australia/Brisbane:20270329T173000
DTEND;TZID=Australia/Brisbane:20270329T183000
DTSTAMP:20260420T111025
CREATED:20260227T014451Z
LAST-MODIFIED:20260227T025407Z
UID:10007478-1806341400-1806345000@www.caloundrapowerboat.com.au
SUMMARY:Ladies Social Golf Club Raffles
DESCRIPTION:Ladies Social Golf Club Raffles\nEvery Monday from 5.30pm\nDrawn at 6.25pm
URL:https://www.caloundrapowerboat.com.au/event/ladies-social-golf-club-raffles/2027-03-29/
LOCATION:Caloundra Power Boat Club\, 2 Lamerough Parade\, Golden Beach\, QLD\, 4551\, Australia
CATEGORIES:Internal Clubs
END:VEVENT
BEGIN:VEVENT
DTSTART;TZID=Australia/Brisbane:20270331T170000
DTEND;TZID=Australia/Brisbane:20270331T190000
DTSTAMP:20260420T111025
CREATED:20250515T070536Z
LAST-MODIFIED:20251212T050310Z
UID:10005672-1806512400-1806519600@www.caloundrapowerboat.com.au
SUMMARY:Golf Club Raffles
DESCRIPTION:
URL:https://www.caloundrapowerboat.com.au/event/golf-club-raffles-3/2027-03-31/
LOCATION:Caloundra Power Boat Club\, 2 Lamerough Parade\, Golden Beach\, QLD\, 4551\, Australia
CATEGORIES:Events,Internal Clubs
END:VEVENT
END:VCALENDAR