BEGIN:VCALENDAR
VERSION:2.0
PRODID:-//Caloundra Power Boat Club - ECPv6.8.2.1//NONSGML v1.0//EN
CALSCALE:GREGORIAN
METHOD:PUBLISH
X-WR-CALNAME:Caloundra Power Boat Club
X-ORIGINAL-URL:https://www.caloundrapowerboat.com.au
X-WR-CALDESC:Events for Caloundra Power Boat Club
REFRESH-INTERVAL;VALUE=DURATION:PT1H
X-Robots-Tag:noindex
X-PUBLISHED-TTL:PT1H
BEGIN:VTIMEZONE
TZID:Australia/Brisbane
BEGIN:STANDARD
TZOFFSETFROM:+1000
TZOFFSETTO:+1000
TZNAME:AEST
DTSTART:20270101T000000
END:STANDARD
END:VTIMEZONE
BEGIN:VEVENT
DTSTART;TZID=Australia/Brisbane:20270502T120000
DTEND;TZID=Australia/Brisbane:20270502T130000
DTSTAMP:20260420T142549
CREATED:20250224T184845Z
LAST-MODIFIED:20250307T065205Z
UID:10004605-1809259200-1809262800@www.caloundrapowerboat.com.au
SUMMARY:Outrigger Raffles
DESCRIPTION:Outrigger Raffles every Sundays from 12pm til around 1pm
URL:https://www.caloundrapowerboat.com.au/event/outrigger-raffles/2027-05-02/
LOCATION:Caloundra Power Boat Club\, 2 Lamerough Parade\, Golden Beach\, QLD\, 4551\, Australia
CATEGORIES:Coast Guard Raffles
ATTACH;FMTTYPE=image/webp:https://www.caloundrapowerboat.com.au/wp-content/uploads/2025/02/OCCC-1.webp
END:VEVENT
BEGIN:VEVENT
DTSTART;TZID=Australia/Brisbane:20270502T120000
DTEND;TZID=Australia/Brisbane:20270502T180000
DTSTAMP:20260420T142549
CREATED:20260323T001623Z
LAST-MODIFIED:20260415T065000Z
UID:10007750-1809259200-1809280800@www.caloundrapowerboat.com.au
SUMMARY:Sunday Kick-off!
DESCRIPTION:SUNDAY KICK-OFF!LIVE FROM THE QUARTERDECK! \nCatch all your favourite games live from 12pm – 6pm every Sunday from the Quarterdeck!\nEnjoy all the action streaming live on FOX SPORTS! \nEVERY SUNDAY FROM 12PM
URL:https://www.caloundrapowerboat.com.au/event/sunday-kick-off/2027-05-02/
LOCATION:Caloundra Power Boat Club\, 2 Lamerough Parade\, Golden Beach\, QLD\, 4551\, Australia
CATEGORIES:Events,Events & Live Music
ATTACH;FMTTYPE=image/jpeg:https://www.caloundrapowerboat.com.au/wp-content/uploads/2026/03/Footy-Screens-5.jpg
END:VEVENT
BEGIN:VEVENT
DTSTART;TZID=Australia/Brisbane:20270503T173000
DTEND;TZID=Australia/Brisbane:20270503T183000
DTSTAMP:20260420T142549
CREATED:20260227T014451Z
LAST-MODIFIED:20260227T025407Z
UID:10007483-1809365400-1809369000@www.caloundrapowerboat.com.au
SUMMARY:Ladies Social Golf Club Raffles
DESCRIPTION:Ladies Social Golf Club Raffles\nEvery Monday from 5.30pm\nDrawn at 6.25pm
URL:https://www.caloundrapowerboat.com.au/event/ladies-social-golf-club-raffles/2027-05-03/
LOCATION:Caloundra Power Boat Club\, 2 Lamerough Parade\, Golden Beach\, QLD\, 4551\, Australia
CATEGORIES:Internal Clubs
END:VEVENT
BEGIN:VEVENT
DTSTART;TZID=Australia/Brisbane:20270505T170000
DTEND;TZID=Australia/Brisbane:20270505T190000
DTSTAMP:20260420T142549
CREATED:20250515T070536Z
LAST-MODIFIED:20251212T050310Z
UID:10005677-1809536400-1809543600@www.caloundrapowerboat.com.au
SUMMARY:Golf Club Raffles
DESCRIPTION:
URL:https://www.caloundrapowerboat.com.au/event/golf-club-raffles-3/2027-05-05/
LOCATION:Caloundra Power Boat Club\, 2 Lamerough Parade\, Golden Beach\, QLD\, 4551\, Australia
CATEGORIES:Events,Internal Clubs
END:VEVENT
BEGIN:VEVENT
DTSTART;TZID=Australia/Brisbane:20270507T170000
DTEND;TZID=Australia/Brisbane:20270507T190000
DTSTAMP:20260420T142549
CREATED:20250515T070631Z
LAST-MODIFIED:20260223T000240Z
UID:10005939-1809709200-1809716400@www.caloundrapowerboat.com.au
SUMMARY:Fishing Club Raffles
DESCRIPTION:
URL:https://www.caloundrapowerboat.com.au/event/fishing-club-raffles/2027-05-07/
LOCATION:Caloundra Power Boat Club\, 2 Lamerough Parade\, Golden Beach\, QLD\, 4551\, Australia
END:VEVENT
BEGIN:VEVENT
DTSTART;TZID=Australia/Brisbane:20270509T120000
DTEND;TZID=Australia/Brisbane:20270509T130000
DTSTAMP:20260420T142549
CREATED:20250224T184845Z
LAST-MODIFIED:20250307T065205Z
UID:10004606-1809864000-1809867600@www.caloundrapowerboat.com.au
SUMMARY:Outrigger Raffles
DESCRIPTION:Outrigger Raffles every Sundays from 12pm til around 1pm
URL:https://www.caloundrapowerboat.com.au/event/outrigger-raffles/2027-05-09/
LOCATION:Caloundra Power Boat Club\, 2 Lamerough Parade\, Golden Beach\, QLD\, 4551\, Australia
CATEGORIES:Coast Guard Raffles
ATTACH;FMTTYPE=image/webp:https://www.caloundrapowerboat.com.au/wp-content/uploads/2025/02/OCCC-1.webp
END:VEVENT
BEGIN:VEVENT
DTSTART;TZID=Australia/Brisbane:20270509T120000
DTEND;TZID=Australia/Brisbane:20270509T180000
DTSTAMP:20260420T142549
CREATED:20260323T001623Z
LAST-MODIFIED:20260415T065000Z
UID:10007751-1809864000-1809885600@www.caloundrapowerboat.com.au
SUMMARY:Sunday Kick-off!
DESCRIPTION:SUNDAY KICK-OFF!LIVE FROM THE QUARTERDECK! \nCatch all your favourite games live from 12pm – 6pm every Sunday from the Quarterdeck!\nEnjoy all the action streaming live on FOX SPORTS! \nEVERY SUNDAY FROM 12PM
URL:https://www.caloundrapowerboat.com.au/event/sunday-kick-off/2027-05-09/
LOCATION:Caloundra Power Boat Club\, 2 Lamerough Parade\, Golden Beach\, QLD\, 4551\, Australia
CATEGORIES:Events,Events & Live Music
ATTACH;FMTTYPE=image/jpeg:https://www.caloundrapowerboat.com.au/wp-content/uploads/2026/03/Footy-Screens-5.jpg
END:VEVENT
BEGIN:VEVENT
DTSTART;TZID=Australia/Brisbane:20270510T173000
DTEND;TZID=Australia/Brisbane:20270510T183000
DTSTAMP:20260420T142549
CREATED:20260227T014451Z
LAST-MODIFIED:20260227T025407Z
UID:10007484-1809970200-1809973800@www.caloundrapowerboat.com.au
SUMMARY:Ladies Social Golf Club Raffles
DESCRIPTION:Ladies Social Golf Club Raffles\nEvery Monday from 5.30pm\nDrawn at 6.25pm
URL:https://www.caloundrapowerboat.com.au/event/ladies-social-golf-club-raffles/2027-05-10/
LOCATION:Caloundra Power Boat Club\, 2 Lamerough Parade\, Golden Beach\, QLD\, 4551\, Australia
CATEGORIES:Internal Clubs
END:VEVENT
BEGIN:VEVENT
DTSTART;TZID=Australia/Brisbane:20270512T170000
DTEND;TZID=Australia/Brisbane:20270512T190000
DTSTAMP:20260420T142549
CREATED:20250515T070536Z
LAST-MODIFIED:20251212T050310Z
UID:10005678-1810141200-1810148400@www.caloundrapowerboat.com.au
SUMMARY:Golf Club Raffles
DESCRIPTION:
URL:https://www.caloundrapowerboat.com.au/event/golf-club-raffles-3/2027-05-12/
LOCATION:Caloundra Power Boat Club\, 2 Lamerough Parade\, Golden Beach\, QLD\, 4551\, Australia
CATEGORIES:Events,Internal Clubs
END:VEVENT
BEGIN:VEVENT
DTSTART;TZID=Australia/Brisbane:20270514T170000
DTEND;TZID=Australia/Brisbane:20270514T190000
DTSTAMP:20260420T142549
CREATED:20250515T070631Z
LAST-MODIFIED:20260223T000240Z
UID:10005940-1810314000-1810321200@www.caloundrapowerboat.com.au
SUMMARY:Fishing Club Raffles
DESCRIPTION:
URL:https://www.caloundrapowerboat.com.au/event/fishing-club-raffles/2027-05-14/
LOCATION:Caloundra Power Boat Club\, 2 Lamerough Parade\, Golden Beach\, QLD\, 4551\, Australia
END:VEVENT
BEGIN:VEVENT
DTSTART;TZID=Australia/Brisbane:20270516T120000
DTEND;TZID=Australia/Brisbane:20270516T130000
DTSTAMP:20260420T142549
CREATED:20250224T184845Z
LAST-MODIFIED:20250307T065205Z
UID:10004607-1810468800-1810472400@www.caloundrapowerboat.com.au
SUMMARY:Outrigger Raffles
DESCRIPTION:Outrigger Raffles every Sundays from 12pm til around 1pm
URL:https://www.caloundrapowerboat.com.au/event/outrigger-raffles/2027-05-16/
LOCATION:Caloundra Power Boat Club\, 2 Lamerough Parade\, Golden Beach\, QLD\, 4551\, Australia
CATEGORIES:Coast Guard Raffles
ATTACH;FMTTYPE=image/webp:https://www.caloundrapowerboat.com.au/wp-content/uploads/2025/02/OCCC-1.webp
END:VEVENT
BEGIN:VEVENT
DTSTART;TZID=Australia/Brisbane:20270516T120000
DTEND;TZID=Australia/Brisbane:20270516T180000
DTSTAMP:20260420T142549
CREATED:20260323T001623Z
LAST-MODIFIED:20260415T065000Z
UID:10007752-1810468800-1810490400@www.caloundrapowerboat.com.au
SUMMARY:Sunday Kick-off!
DESCRIPTION:SUNDAY KICK-OFF!LIVE FROM THE QUARTERDECK! \nCatch all your favourite games live from 12pm – 6pm every Sunday from the Quarterdeck!\nEnjoy all the action streaming live on FOX SPORTS! \nEVERY SUNDAY FROM 12PM
URL:https://www.caloundrapowerboat.com.au/event/sunday-kick-off/2027-05-16/
LOCATION:Caloundra Power Boat Club\, 2 Lamerough Parade\, Golden Beach\, QLD\, 4551\, Australia
CATEGORIES:Events,Events & Live Music
ATTACH;FMTTYPE=image/jpeg:https://www.caloundrapowerboat.com.au/wp-content/uploads/2026/03/Footy-Screens-5.jpg
END:VEVENT
BEGIN:VEVENT
DTSTART;TZID=Australia/Brisbane:20270517T173000
DTEND;TZID=Australia/Brisbane:20270517T183000
DTSTAMP:20260420T142549
CREATED:20260227T014451Z
LAST-MODIFIED:20260227T025407Z
UID:10007485-1810575000-1810578600@www.caloundrapowerboat.com.au
SUMMARY:Ladies Social Golf Club Raffles
DESCRIPTION:Ladies Social Golf Club Raffles\nEvery Monday from 5.30pm\nDrawn at 6.25pm
URL:https://www.caloundrapowerboat.com.au/event/ladies-social-golf-club-raffles/2027-05-17/
LOCATION:Caloundra Power Boat Club\, 2 Lamerough Parade\, Golden Beach\, QLD\, 4551\, Australia
CATEGORIES:Internal Clubs
END:VEVENT
BEGIN:VEVENT
DTSTART;TZID=Australia/Brisbane:20270519T170000
DTEND;TZID=Australia/Brisbane:20270519T190000
DTSTAMP:20260420T142549
CREATED:20250515T070536Z
LAST-MODIFIED:20251212T050310Z
UID:10005679-1810746000-1810753200@www.caloundrapowerboat.com.au
SUMMARY:Golf Club Raffles
DESCRIPTION:
URL:https://www.caloundrapowerboat.com.au/event/golf-club-raffles-3/2027-05-19/
LOCATION:Caloundra Power Boat Club\, 2 Lamerough Parade\, Golden Beach\, QLD\, 4551\, Australia
CATEGORIES:Events,Internal Clubs
END:VEVENT
BEGIN:VEVENT
DTSTART;TZID=Australia/Brisbane:20270521T170000
DTEND;TZID=Australia/Brisbane:20270521T190000
DTSTAMP:20260420T142549
CREATED:20250515T070631Z
LAST-MODIFIED:20260223T000240Z
UID:10005941-1810918800-1810926000@www.caloundrapowerboat.com.au
SUMMARY:Fishing Club Raffles
DESCRIPTION:
URL:https://www.caloundrapowerboat.com.au/event/fishing-club-raffles/2027-05-21/
LOCATION:Caloundra Power Boat Club\, 2 Lamerough Parade\, Golden Beach\, QLD\, 4551\, Australia
END:VEVENT
BEGIN:VEVENT
DTSTART;TZID=Australia/Brisbane:20270523T120000
DTEND;TZID=Australia/Brisbane:20270523T130000
DTSTAMP:20260420T142549
CREATED:20250224T184845Z
LAST-MODIFIED:20250307T065205Z
UID:10004608-1811073600-1811077200@www.caloundrapowerboat.com.au
SUMMARY:Outrigger Raffles
DESCRIPTION:Outrigger Raffles every Sundays from 12pm til around 1pm
URL:https://www.caloundrapowerboat.com.au/event/outrigger-raffles/2027-05-23/
LOCATION:Caloundra Power Boat Club\, 2 Lamerough Parade\, Golden Beach\, QLD\, 4551\, Australia
CATEGORIES:Coast Guard Raffles
ATTACH;FMTTYPE=image/webp:https://www.caloundrapowerboat.com.au/wp-content/uploads/2025/02/OCCC-1.webp
END:VEVENT
BEGIN:VEVENT
DTSTART;TZID=Australia/Brisbane:20270523T120000
DTEND;TZID=Australia/Brisbane:20270523T180000
DTSTAMP:20260420T142549
CREATED:20260323T001623Z
LAST-MODIFIED:20260415T065000Z
UID:10007753-1811073600-1811095200@www.caloundrapowerboat.com.au
SUMMARY:Sunday Kick-off!
DESCRIPTION:SUNDAY KICK-OFF!LIVE FROM THE QUARTERDECK! \nCatch all your favourite games live from 12pm – 6pm every Sunday from the Quarterdeck!\nEnjoy all the action streaming live on FOX SPORTS! \nEVERY SUNDAY FROM 12PM
URL:https://www.caloundrapowerboat.com.au/event/sunday-kick-off/2027-05-23/
LOCATION:Caloundra Power Boat Club\, 2 Lamerough Parade\, Golden Beach\, QLD\, 4551\, Australia
CATEGORIES:Events,Events & Live Music
ATTACH;FMTTYPE=image/jpeg:https://www.caloundrapowerboat.com.au/wp-content/uploads/2026/03/Footy-Screens-5.jpg
END:VEVENT
BEGIN:VEVENT
DTSTART;TZID=Australia/Brisbane:20270524T173000
DTEND;TZID=Australia/Brisbane:20270524T183000
DTSTAMP:20260420T142549
CREATED:20260227T014451Z
LAST-MODIFIED:20260227T025407Z
UID:10007486-1811179800-1811183400@www.caloundrapowerboat.com.au
SUMMARY:Ladies Social Golf Club Raffles
DESCRIPTION:Ladies Social Golf Club Raffles\nEvery Monday from 5.30pm\nDrawn at 6.25pm
URL:https://www.caloundrapowerboat.com.au/event/ladies-social-golf-club-raffles/2027-05-24/
LOCATION:Caloundra Power Boat Club\, 2 Lamerough Parade\, Golden Beach\, QLD\, 4551\, Australia
CATEGORIES:Internal Clubs
END:VEVENT
BEGIN:VEVENT
DTSTART;TZID=Australia/Brisbane:20270526T170000
DTEND;TZID=Australia/Brisbane:20270526T190000
DTSTAMP:20260420T142549
CREATED:20250515T070536Z
LAST-MODIFIED:20251212T050310Z
UID:10005680-1811350800-1811358000@www.caloundrapowerboat.com.au
SUMMARY:Golf Club Raffles
DESCRIPTION:
URL:https://www.caloundrapowerboat.com.au/event/golf-club-raffles-3/2027-05-26/
LOCATION:Caloundra Power Boat Club\, 2 Lamerough Parade\, Golden Beach\, QLD\, 4551\, Australia
CATEGORIES:Events,Internal Clubs
END:VEVENT
BEGIN:VEVENT
DTSTART;TZID=Australia/Brisbane:20270528T170000
DTEND;TZID=Australia/Brisbane:20270528T190000
DTSTAMP:20260420T142549
CREATED:20250515T070631Z
LAST-MODIFIED:20260223T000240Z
UID:10005942-1811523600-1811530800@www.caloundrapowerboat.com.au
SUMMARY:Fishing Club Raffles
DESCRIPTION:
URL:https://www.caloundrapowerboat.com.au/event/fishing-club-raffles/2027-05-28/
LOCATION:Caloundra Power Boat Club\, 2 Lamerough Parade\, Golden Beach\, QLD\, 4551\, Australia
END:VEVENT
BEGIN:VEVENT
DTSTART;TZID=Australia/Brisbane:20270530T120000
DTEND;TZID=Australia/Brisbane:20270530T130000
DTSTAMP:20260420T142549
CREATED:20250224T184845Z
LAST-MODIFIED:20250307T065205Z
UID:10004609-1811678400-1811682000@www.caloundrapowerboat.com.au
SUMMARY:Outrigger Raffles
DESCRIPTION:Outrigger Raffles every Sundays from 12pm til around 1pm
URL:https://www.caloundrapowerboat.com.au/event/outrigger-raffles/2027-05-30/
LOCATION:Caloundra Power Boat Club\, 2 Lamerough Parade\, Golden Beach\, QLD\, 4551\, Australia
CATEGORIES:Coast Guard Raffles
ATTACH;FMTTYPE=image/webp:https://www.caloundrapowerboat.com.au/wp-content/uploads/2025/02/OCCC-1.webp
END:VEVENT
BEGIN:VEVENT
DTSTART;TZID=Australia/Brisbane:20270530T120000
DTEND;TZID=Australia/Brisbane:20270530T180000
DTSTAMP:20260420T142549
CREATED:20260323T001623Z
LAST-MODIFIED:20260415T065000Z
UID:10007754-1811678400-1811700000@www.caloundrapowerboat.com.au
SUMMARY:Sunday Kick-off!
DESCRIPTION:SUNDAY KICK-OFF!LIVE FROM THE QUARTERDECK! \nCatch all your favourite games live from 12pm – 6pm every Sunday from the Quarterdeck!\nEnjoy all the action streaming live on FOX SPORTS! \nEVERY SUNDAY FROM 12PM
URL:https://www.caloundrapowerboat.com.au/event/sunday-kick-off/2027-05-30/
LOCATION:Caloundra Power Boat Club\, 2 Lamerough Parade\, Golden Beach\, QLD\, 4551\, Australia
CATEGORIES:Events,Events & Live Music
ATTACH;FMTTYPE=image/jpeg:https://www.caloundrapowerboat.com.au/wp-content/uploads/2026/03/Footy-Screens-5.jpg
END:VEVENT
BEGIN:VEVENT
DTSTART;TZID=Australia/Brisbane:20270531T173000
DTEND;TZID=Australia/Brisbane:20270531T183000
DTSTAMP:20260420T142549
CREATED:20260227T014451Z
LAST-MODIFIED:20260227T025407Z
UID:10007487-1811784600-1811788200@www.caloundrapowerboat.com.au
SUMMARY:Ladies Social Golf Club Raffles
DESCRIPTION:Ladies Social Golf Club Raffles\nEvery Monday from 5.30pm\nDrawn at 6.25pm
URL:https://www.caloundrapowerboat.com.au/event/ladies-social-golf-club-raffles/2027-05-31/
LOCATION:Caloundra Power Boat Club\, 2 Lamerough Parade\, Golden Beach\, QLD\, 4551\, Australia
CATEGORIES:Internal Clubs
END:VEVENT
END:VCALENDAR