BEGIN:VCALENDAR
VERSION:2.0
PRODID:-//Caloundra Power Boat Club - ECPv6.8.2.1//NONSGML v1.0//EN
CALSCALE:GREGORIAN
METHOD:PUBLISH
X-WR-CALNAME:Caloundra Power Boat Club
X-ORIGINAL-URL:https://www.caloundrapowerboat.com.au
X-WR-CALDESC:Events for Caloundra Power Boat Club
REFRESH-INTERVAL;VALUE=DURATION:PT1H
X-Robots-Tag:noindex
X-PUBLISHED-TTL:PT1H
BEGIN:VTIMEZONE
TZID:Australia/Brisbane
BEGIN:STANDARD
TZOFFSETFROM:+1000
TZOFFSETTO:+1000
TZNAME:AEST
DTSTART:20270101T000000
END:STANDARD
END:VTIMEZONE
BEGIN:VEVENT
DTSTART;TZID=Australia/Brisbane:20270602T170000
DTEND;TZID=Australia/Brisbane:20270602T190000
DTSTAMP:20260420T155139
CREATED:20250515T070536Z
LAST-MODIFIED:20251212T050310Z
UID:10005681-1811955600-1811962800@www.caloundrapowerboat.com.au
SUMMARY:Golf Club Raffles
DESCRIPTION:
URL:https://www.caloundrapowerboat.com.au/event/golf-club-raffles-3/2027-06-02/
LOCATION:Caloundra Power Boat Club\, 2 Lamerough Parade\, Golden Beach\, QLD\, 4551\, Australia
CATEGORIES:Events,Internal Clubs
END:VEVENT
BEGIN:VEVENT
DTSTART;TZID=Australia/Brisbane:20270604T170000
DTEND;TZID=Australia/Brisbane:20270604T190000
DTSTAMP:20260420T155139
CREATED:20250515T070631Z
LAST-MODIFIED:20260223T000240Z
UID:10005943-1812128400-1812135600@www.caloundrapowerboat.com.au
SUMMARY:Fishing Club Raffles
DESCRIPTION:
URL:https://www.caloundrapowerboat.com.au/event/fishing-club-raffles/2027-06-04/
LOCATION:Caloundra Power Boat Club\, 2 Lamerough Parade\, Golden Beach\, QLD\, 4551\, Australia
END:VEVENT
BEGIN:VEVENT
DTSTART;TZID=Australia/Brisbane:20270606T120000
DTEND;TZID=Australia/Brisbane:20270606T130000
DTSTAMP:20260420T155139
CREATED:20250224T184845Z
LAST-MODIFIED:20250307T065205Z
UID:10004610-1812283200-1812286800@www.caloundrapowerboat.com.au
SUMMARY:Outrigger Raffles
DESCRIPTION:Outrigger Raffles every Sundays from 12pm til around 1pm
URL:https://www.caloundrapowerboat.com.au/event/outrigger-raffles/2027-06-06/
LOCATION:Caloundra Power Boat Club\, 2 Lamerough Parade\, Golden Beach\, QLD\, 4551\, Australia
CATEGORIES:Coast Guard Raffles
ATTACH;FMTTYPE=image/webp:https://www.caloundrapowerboat.com.au/wp-content/uploads/2025/02/OCCC-1.webp
END:VEVENT
BEGIN:VEVENT
DTSTART;TZID=Australia/Brisbane:20270606T120000
DTEND;TZID=Australia/Brisbane:20270606T180000
DTSTAMP:20260420T155139
CREATED:20260323T001623Z
LAST-MODIFIED:20260415T065000Z
UID:10007755-1812283200-1812304800@www.caloundrapowerboat.com.au
SUMMARY:Sunday Kick-off!
DESCRIPTION:SUNDAY KICK-OFF!LIVE FROM THE QUARTERDECK! \nCatch all your favourite games live from 12pm – 6pm every Sunday from the Quarterdeck!\nEnjoy all the action streaming live on FOX SPORTS! \nEVERY SUNDAY FROM 12PM
URL:https://www.caloundrapowerboat.com.au/event/sunday-kick-off/2027-06-06/
LOCATION:Caloundra Power Boat Club\, 2 Lamerough Parade\, Golden Beach\, QLD\, 4551\, Australia
CATEGORIES:Events,Events & Live Music
ATTACH;FMTTYPE=image/jpeg:https://www.caloundrapowerboat.com.au/wp-content/uploads/2026/03/Footy-Screens-5.jpg
END:VEVENT
BEGIN:VEVENT
DTSTART;TZID=Australia/Brisbane:20270607T173000
DTEND;TZID=Australia/Brisbane:20270607T183000
DTSTAMP:20260420T155139
CREATED:20260227T014451Z
LAST-MODIFIED:20260227T025407Z
UID:10007488-1812389400-1812393000@www.caloundrapowerboat.com.au
SUMMARY:Ladies Social Golf Club Raffles
DESCRIPTION:Ladies Social Golf Club Raffles\nEvery Monday from 5.30pm\nDrawn at 6.25pm
URL:https://www.caloundrapowerboat.com.au/event/ladies-social-golf-club-raffles/2027-06-07/
LOCATION:Caloundra Power Boat Club\, 2 Lamerough Parade\, Golden Beach\, QLD\, 4551\, Australia
CATEGORIES:Internal Clubs
END:VEVENT
BEGIN:VEVENT
DTSTART;TZID=Australia/Brisbane:20270609T170000
DTEND;TZID=Australia/Brisbane:20270609T190000
DTSTAMP:20260420T155139
CREATED:20250515T070536Z
LAST-MODIFIED:20251212T050310Z
UID:10005682-1812560400-1812567600@www.caloundrapowerboat.com.au
SUMMARY:Golf Club Raffles
DESCRIPTION:
URL:https://www.caloundrapowerboat.com.au/event/golf-club-raffles-3/2027-06-09/
LOCATION:Caloundra Power Boat Club\, 2 Lamerough Parade\, Golden Beach\, QLD\, 4551\, Australia
CATEGORIES:Events,Internal Clubs
END:VEVENT
BEGIN:VEVENT
DTSTART;TZID=Australia/Brisbane:20270611T170000
DTEND;TZID=Australia/Brisbane:20270611T190000
DTSTAMP:20260420T155139
CREATED:20250515T070631Z
LAST-MODIFIED:20260223T000240Z
UID:10005944-1812733200-1812740400@www.caloundrapowerboat.com.au
SUMMARY:Fishing Club Raffles
DESCRIPTION:
URL:https://www.caloundrapowerboat.com.au/event/fishing-club-raffles/2027-06-11/
LOCATION:Caloundra Power Boat Club\, 2 Lamerough Parade\, Golden Beach\, QLD\, 4551\, Australia
END:VEVENT
BEGIN:VEVENT
DTSTART;TZID=Australia/Brisbane:20270613T120000
DTEND;TZID=Australia/Brisbane:20270613T130000
DTSTAMP:20260420T155139
CREATED:20250224T184845Z
LAST-MODIFIED:20250307T065205Z
UID:10004611-1812888000-1812891600@www.caloundrapowerboat.com.au
SUMMARY:Outrigger Raffles
DESCRIPTION:Outrigger Raffles every Sundays from 12pm til around 1pm
URL:https://www.caloundrapowerboat.com.au/event/outrigger-raffles/2027-06-13/
LOCATION:Caloundra Power Boat Club\, 2 Lamerough Parade\, Golden Beach\, QLD\, 4551\, Australia
CATEGORIES:Coast Guard Raffles
ATTACH;FMTTYPE=image/webp:https://www.caloundrapowerboat.com.au/wp-content/uploads/2025/02/OCCC-1.webp
END:VEVENT
BEGIN:VEVENT
DTSTART;TZID=Australia/Brisbane:20270613T120000
DTEND;TZID=Australia/Brisbane:20270613T180000
DTSTAMP:20260420T155139
CREATED:20260323T001623Z
LAST-MODIFIED:20260415T065000Z
UID:10007756-1812888000-1812909600@www.caloundrapowerboat.com.au
SUMMARY:Sunday Kick-off!
DESCRIPTION:SUNDAY KICK-OFF!LIVE FROM THE QUARTERDECK! \nCatch all your favourite games live from 12pm – 6pm every Sunday from the Quarterdeck!\nEnjoy all the action streaming live on FOX SPORTS! \nEVERY SUNDAY FROM 12PM
URL:https://www.caloundrapowerboat.com.au/event/sunday-kick-off/2027-06-13/
LOCATION:Caloundra Power Boat Club\, 2 Lamerough Parade\, Golden Beach\, QLD\, 4551\, Australia
CATEGORIES:Events,Events & Live Music
ATTACH;FMTTYPE=image/jpeg:https://www.caloundrapowerboat.com.au/wp-content/uploads/2026/03/Footy-Screens-5.jpg
END:VEVENT
BEGIN:VEVENT
DTSTART;TZID=Australia/Brisbane:20270614T173000
DTEND;TZID=Australia/Brisbane:20270614T183000
DTSTAMP:20260420T155139
CREATED:20260227T014451Z
LAST-MODIFIED:20260227T025407Z
UID:10007489-1812994200-1812997800@www.caloundrapowerboat.com.au
SUMMARY:Ladies Social Golf Club Raffles
DESCRIPTION:Ladies Social Golf Club Raffles\nEvery Monday from 5.30pm\nDrawn at 6.25pm
URL:https://www.caloundrapowerboat.com.au/event/ladies-social-golf-club-raffles/2027-06-14/
LOCATION:Caloundra Power Boat Club\, 2 Lamerough Parade\, Golden Beach\, QLD\, 4551\, Australia
CATEGORIES:Internal Clubs
END:VEVENT
BEGIN:VEVENT
DTSTART;TZID=Australia/Brisbane:20270616T170000
DTEND;TZID=Australia/Brisbane:20270616T190000
DTSTAMP:20260420T155139
CREATED:20250515T070536Z
LAST-MODIFIED:20251212T050310Z
UID:10005683-1813165200-1813172400@www.caloundrapowerboat.com.au
SUMMARY:Golf Club Raffles
DESCRIPTION:
URL:https://www.caloundrapowerboat.com.au/event/golf-club-raffles-3/2027-06-16/
LOCATION:Caloundra Power Boat Club\, 2 Lamerough Parade\, Golden Beach\, QLD\, 4551\, Australia
CATEGORIES:Events,Internal Clubs
END:VEVENT
BEGIN:VEVENT
DTSTART;TZID=Australia/Brisbane:20270618T170000
DTEND;TZID=Australia/Brisbane:20270618T190000
DTSTAMP:20260420T155139
CREATED:20250515T070631Z
LAST-MODIFIED:20260223T000240Z
UID:10005945-1813338000-1813345200@www.caloundrapowerboat.com.au
SUMMARY:Fishing Club Raffles
DESCRIPTION:
URL:https://www.caloundrapowerboat.com.au/event/fishing-club-raffles/2027-06-18/
LOCATION:Caloundra Power Boat Club\, 2 Lamerough Parade\, Golden Beach\, QLD\, 4551\, Australia
END:VEVENT
BEGIN:VEVENT
DTSTART;TZID=Australia/Brisbane:20270620T120000
DTEND;TZID=Australia/Brisbane:20270620T130000
DTSTAMP:20260420T155139
CREATED:20250224T184845Z
LAST-MODIFIED:20250307T065205Z
UID:10004612-1813492800-1813496400@www.caloundrapowerboat.com.au
SUMMARY:Outrigger Raffles
DESCRIPTION:Outrigger Raffles every Sundays from 12pm til around 1pm
URL:https://www.caloundrapowerboat.com.au/event/outrigger-raffles/2027-06-20/
LOCATION:Caloundra Power Boat Club\, 2 Lamerough Parade\, Golden Beach\, QLD\, 4551\, Australia
CATEGORIES:Coast Guard Raffles
ATTACH;FMTTYPE=image/webp:https://www.caloundrapowerboat.com.au/wp-content/uploads/2025/02/OCCC-1.webp
END:VEVENT
BEGIN:VEVENT
DTSTART;TZID=Australia/Brisbane:20270620T120000
DTEND;TZID=Australia/Brisbane:20270620T180000
DTSTAMP:20260420T155139
CREATED:20260323T001623Z
LAST-MODIFIED:20260415T065000Z
UID:10007757-1813492800-1813514400@www.caloundrapowerboat.com.au
SUMMARY:Sunday Kick-off!
DESCRIPTION:SUNDAY KICK-OFF!LIVE FROM THE QUARTERDECK! \nCatch all your favourite games live from 12pm – 6pm every Sunday from the Quarterdeck!\nEnjoy all the action streaming live on FOX SPORTS! \nEVERY SUNDAY FROM 12PM
URL:https://www.caloundrapowerboat.com.au/event/sunday-kick-off/2027-06-20/
LOCATION:Caloundra Power Boat Club\, 2 Lamerough Parade\, Golden Beach\, QLD\, 4551\, Australia
CATEGORIES:Events,Events & Live Music
ATTACH;FMTTYPE=image/jpeg:https://www.caloundrapowerboat.com.au/wp-content/uploads/2026/03/Footy-Screens-5.jpg
END:VEVENT
BEGIN:VEVENT
DTSTART;TZID=Australia/Brisbane:20270621T173000
DTEND;TZID=Australia/Brisbane:20270621T183000
DTSTAMP:20260420T155139
CREATED:20260227T014451Z
LAST-MODIFIED:20260227T025407Z
UID:10007490-1813599000-1813602600@www.caloundrapowerboat.com.au
SUMMARY:Ladies Social Golf Club Raffles
DESCRIPTION:Ladies Social Golf Club Raffles\nEvery Monday from 5.30pm\nDrawn at 6.25pm
URL:https://www.caloundrapowerboat.com.au/event/ladies-social-golf-club-raffles/2027-06-21/
LOCATION:Caloundra Power Boat Club\, 2 Lamerough Parade\, Golden Beach\, QLD\, 4551\, Australia
CATEGORIES:Internal Clubs
END:VEVENT
BEGIN:VEVENT
DTSTART;TZID=Australia/Brisbane:20270623T170000
DTEND;TZID=Australia/Brisbane:20270623T190000
DTSTAMP:20260420T155139
CREATED:20250515T070536Z
LAST-MODIFIED:20251212T050310Z
UID:10005684-1813770000-1813777200@www.caloundrapowerboat.com.au
SUMMARY:Golf Club Raffles
DESCRIPTION:
URL:https://www.caloundrapowerboat.com.au/event/golf-club-raffles-3/2027-06-23/
LOCATION:Caloundra Power Boat Club\, 2 Lamerough Parade\, Golden Beach\, QLD\, 4551\, Australia
CATEGORIES:Events,Internal Clubs
END:VEVENT
BEGIN:VEVENT
DTSTART;TZID=Australia/Brisbane:20270625T170000
DTEND;TZID=Australia/Brisbane:20270625T190000
DTSTAMP:20260420T155139
CREATED:20250515T070631Z
LAST-MODIFIED:20260223T000240Z
UID:10005946-1813942800-1813950000@www.caloundrapowerboat.com.au
SUMMARY:Fishing Club Raffles
DESCRIPTION:
URL:https://www.caloundrapowerboat.com.au/event/fishing-club-raffles/2027-06-25/
LOCATION:Caloundra Power Boat Club\, 2 Lamerough Parade\, Golden Beach\, QLD\, 4551\, Australia
END:VEVENT
BEGIN:VEVENT
DTSTART;TZID=Australia/Brisbane:20270627T120000
DTEND;TZID=Australia/Brisbane:20270627T130000
DTSTAMP:20260420T155139
CREATED:20250224T184845Z
LAST-MODIFIED:20250307T065205Z
UID:10004613-1814097600-1814101200@www.caloundrapowerboat.com.au
SUMMARY:Outrigger Raffles
DESCRIPTION:Outrigger Raffles every Sundays from 12pm til around 1pm
URL:https://www.caloundrapowerboat.com.au/event/outrigger-raffles/2027-06-27/
LOCATION:Caloundra Power Boat Club\, 2 Lamerough Parade\, Golden Beach\, QLD\, 4551\, Australia
CATEGORIES:Coast Guard Raffles
ATTACH;FMTTYPE=image/webp:https://www.caloundrapowerboat.com.au/wp-content/uploads/2025/02/OCCC-1.webp
END:VEVENT
BEGIN:VEVENT
DTSTART;TZID=Australia/Brisbane:20270627T120000
DTEND;TZID=Australia/Brisbane:20270627T180000
DTSTAMP:20260420T155139
CREATED:20260323T001623Z
LAST-MODIFIED:20260415T065000Z
UID:10007758-1814097600-1814119200@www.caloundrapowerboat.com.au
SUMMARY:Sunday Kick-off!
DESCRIPTION:SUNDAY KICK-OFF!LIVE FROM THE QUARTERDECK! \nCatch all your favourite games live from 12pm – 6pm every Sunday from the Quarterdeck!\nEnjoy all the action streaming live on FOX SPORTS! \nEVERY SUNDAY FROM 12PM
URL:https://www.caloundrapowerboat.com.au/event/sunday-kick-off/2027-06-27/
LOCATION:Caloundra Power Boat Club\, 2 Lamerough Parade\, Golden Beach\, QLD\, 4551\, Australia
CATEGORIES:Events,Events & Live Music
ATTACH;FMTTYPE=image/jpeg:https://www.caloundrapowerboat.com.au/wp-content/uploads/2026/03/Footy-Screens-5.jpg
END:VEVENT
BEGIN:VEVENT
DTSTART;TZID=Australia/Brisbane:20270628T173000
DTEND;TZID=Australia/Brisbane:20270628T183000
DTSTAMP:20260420T155139
CREATED:20260227T014451Z
LAST-MODIFIED:20260227T025407Z
UID:10007491-1814203800-1814207400@www.caloundrapowerboat.com.au
SUMMARY:Ladies Social Golf Club Raffles
DESCRIPTION:Ladies Social Golf Club Raffles\nEvery Monday from 5.30pm\nDrawn at 6.25pm
URL:https://www.caloundrapowerboat.com.au/event/ladies-social-golf-club-raffles/2027-06-28/
LOCATION:Caloundra Power Boat Club\, 2 Lamerough Parade\, Golden Beach\, QLD\, 4551\, Australia
CATEGORIES:Internal Clubs
END:VEVENT
BEGIN:VEVENT
DTSTART;TZID=Australia/Brisbane:20270630T170000
DTEND;TZID=Australia/Brisbane:20270630T190000
DTSTAMP:20260420T155139
CREATED:20250515T070536Z
LAST-MODIFIED:20251212T050310Z
UID:10005685-1814374800-1814382000@www.caloundrapowerboat.com.au
SUMMARY:Golf Club Raffles
DESCRIPTION:
URL:https://www.caloundrapowerboat.com.au/event/golf-club-raffles-3/2027-06-30/
LOCATION:Caloundra Power Boat Club\, 2 Lamerough Parade\, Golden Beach\, QLD\, 4551\, Australia
CATEGORIES:Events,Internal Clubs
END:VEVENT
END:VCALENDAR