BEGIN:VCALENDAR
VERSION:2.0
PRODID:-//Caloundra Power Boat Club - ECPv6.8.2.1//NONSGML v1.0//EN
CALSCALE:GREGORIAN
METHOD:PUBLISH
X-WR-CALNAME:Caloundra Power Boat Club
X-ORIGINAL-URL:https://www.caloundrapowerboat.com.au
X-WR-CALDESC:Events for Caloundra Power Boat Club
REFRESH-INTERVAL;VALUE=DURATION:PT1H
X-Robots-Tag:noindex
X-PUBLISHED-TTL:PT1H
BEGIN:VTIMEZONE
TZID:Australia/Brisbane
BEGIN:STANDARD
TZOFFSETFROM:+1000
TZOFFSETTO:+1000
TZNAME:AEST
DTSTART:20270101T000000
END:STANDARD
END:VTIMEZONE
BEGIN:VEVENT
DTSTART;TZID=Australia/Brisbane:20270702T170000
DTEND;TZID=Australia/Brisbane:20270702T190000
DTSTAMP:20260420T171610
CREATED:20250515T070631Z
LAST-MODIFIED:20260223T000240Z
UID:10005947-1814547600-1814554800@www.caloundrapowerboat.com.au
SUMMARY:Fishing Club Raffles
DESCRIPTION:
URL:https://www.caloundrapowerboat.com.au/event/fishing-club-raffles/2027-07-02/
LOCATION:Caloundra Power Boat Club\, 2 Lamerough Parade\, Golden Beach\, QLD\, 4551\, Australia
END:VEVENT
BEGIN:VEVENT
DTSTART;TZID=Australia/Brisbane:20270704T120000
DTEND;TZID=Australia/Brisbane:20270704T130000
DTSTAMP:20260420T171610
CREATED:20250224T184845Z
LAST-MODIFIED:20250307T065205Z
UID:10004614-1814702400-1814706000@www.caloundrapowerboat.com.au
SUMMARY:Outrigger Raffles
DESCRIPTION:Outrigger Raffles every Sundays from 12pm til around 1pm
URL:https://www.caloundrapowerboat.com.au/event/outrigger-raffles/2027-07-04/
LOCATION:Caloundra Power Boat Club\, 2 Lamerough Parade\, Golden Beach\, QLD\, 4551\, Australia
CATEGORIES:Coast Guard Raffles
ATTACH;FMTTYPE=image/webp:https://www.caloundrapowerboat.com.au/wp-content/uploads/2025/02/OCCC-1.webp
END:VEVENT
BEGIN:VEVENT
DTSTART;TZID=Australia/Brisbane:20270704T120000
DTEND;TZID=Australia/Brisbane:20270704T180000
DTSTAMP:20260420T171610
CREATED:20260323T001623Z
LAST-MODIFIED:20260415T065000Z
UID:10007759-1814702400-1814724000@www.caloundrapowerboat.com.au
SUMMARY:Sunday Kick-off!
DESCRIPTION:SUNDAY KICK-OFF!LIVE FROM THE QUARTERDECK! \nCatch all your favourite games live from 12pm – 6pm every Sunday from the Quarterdeck!\nEnjoy all the action streaming live on FOX SPORTS! \nEVERY SUNDAY FROM 12PM
URL:https://www.caloundrapowerboat.com.au/event/sunday-kick-off/2027-07-04/
LOCATION:Caloundra Power Boat Club\, 2 Lamerough Parade\, Golden Beach\, QLD\, 4551\, Australia
CATEGORIES:Events,Events & Live Music
ATTACH;FMTTYPE=image/jpeg:https://www.caloundrapowerboat.com.au/wp-content/uploads/2026/03/Footy-Screens-5.jpg
END:VEVENT
BEGIN:VEVENT
DTSTART;TZID=Australia/Brisbane:20270705T173000
DTEND;TZID=Australia/Brisbane:20270705T183000
DTSTAMP:20260420T171610
CREATED:20260227T014451Z
LAST-MODIFIED:20260227T025407Z
UID:10007492-1814808600-1814812200@www.caloundrapowerboat.com.au
SUMMARY:Ladies Social Golf Club Raffles
DESCRIPTION:Ladies Social Golf Club Raffles\nEvery Monday from 5.30pm\nDrawn at 6.25pm
URL:https://www.caloundrapowerboat.com.au/event/ladies-social-golf-club-raffles/2027-07-05/
LOCATION:Caloundra Power Boat Club\, 2 Lamerough Parade\, Golden Beach\, QLD\, 4551\, Australia
CATEGORIES:Internal Clubs
END:VEVENT
BEGIN:VEVENT
DTSTART;TZID=Australia/Brisbane:20270707T170000
DTEND;TZID=Australia/Brisbane:20270707T190000
DTSTAMP:20260420T171610
CREATED:20250515T070536Z
LAST-MODIFIED:20251212T050310Z
UID:10005686-1814979600-1814986800@www.caloundrapowerboat.com.au
SUMMARY:Golf Club Raffles
DESCRIPTION:
URL:https://www.caloundrapowerboat.com.au/event/golf-club-raffles-3/2027-07-07/
LOCATION:Caloundra Power Boat Club\, 2 Lamerough Parade\, Golden Beach\, QLD\, 4551\, Australia
CATEGORIES:Events,Internal Clubs
END:VEVENT
BEGIN:VEVENT
DTSTART;TZID=Australia/Brisbane:20270709T170000
DTEND;TZID=Australia/Brisbane:20270709T190000
DTSTAMP:20260420T171610
CREATED:20250515T070631Z
LAST-MODIFIED:20260223T000240Z
UID:10005948-1815152400-1815159600@www.caloundrapowerboat.com.au
SUMMARY:Fishing Club Raffles
DESCRIPTION:
URL:https://www.caloundrapowerboat.com.au/event/fishing-club-raffles/2027-07-09/
LOCATION:Caloundra Power Boat Club\, 2 Lamerough Parade\, Golden Beach\, QLD\, 4551\, Australia
END:VEVENT
BEGIN:VEVENT
DTSTART;TZID=Australia/Brisbane:20270711T120000
DTEND;TZID=Australia/Brisbane:20270711T130000
DTSTAMP:20260420T171610
CREATED:20250224T184845Z
LAST-MODIFIED:20250307T065205Z
UID:10004615-1815307200-1815310800@www.caloundrapowerboat.com.au
SUMMARY:Outrigger Raffles
DESCRIPTION:Outrigger Raffles every Sundays from 12pm til around 1pm
URL:https://www.caloundrapowerboat.com.au/event/outrigger-raffles/2027-07-11/
LOCATION:Caloundra Power Boat Club\, 2 Lamerough Parade\, Golden Beach\, QLD\, 4551\, Australia
CATEGORIES:Coast Guard Raffles
ATTACH;FMTTYPE=image/webp:https://www.caloundrapowerboat.com.au/wp-content/uploads/2025/02/OCCC-1.webp
END:VEVENT
BEGIN:VEVENT
DTSTART;TZID=Australia/Brisbane:20270711T120000
DTEND;TZID=Australia/Brisbane:20270711T180000
DTSTAMP:20260420T171610
CREATED:20260323T001623Z
LAST-MODIFIED:20260415T065000Z
UID:10007760-1815307200-1815328800@www.caloundrapowerboat.com.au
SUMMARY:Sunday Kick-off!
DESCRIPTION:SUNDAY KICK-OFF!LIVE FROM THE QUARTERDECK! \nCatch all your favourite games live from 12pm – 6pm every Sunday from the Quarterdeck!\nEnjoy all the action streaming live on FOX SPORTS! \nEVERY SUNDAY FROM 12PM
URL:https://www.caloundrapowerboat.com.au/event/sunday-kick-off/2027-07-11/
LOCATION:Caloundra Power Boat Club\, 2 Lamerough Parade\, Golden Beach\, QLD\, 4551\, Australia
CATEGORIES:Events,Events & Live Music
ATTACH;FMTTYPE=image/jpeg:https://www.caloundrapowerboat.com.au/wp-content/uploads/2026/03/Footy-Screens-5.jpg
END:VEVENT
BEGIN:VEVENT
DTSTART;TZID=Australia/Brisbane:20270712T173000
DTEND;TZID=Australia/Brisbane:20270712T183000
DTSTAMP:20260420T171610
CREATED:20260227T014451Z
LAST-MODIFIED:20260227T025407Z
UID:10007493-1815413400-1815417000@www.caloundrapowerboat.com.au
SUMMARY:Ladies Social Golf Club Raffles
DESCRIPTION:Ladies Social Golf Club Raffles\nEvery Monday from 5.30pm\nDrawn at 6.25pm
URL:https://www.caloundrapowerboat.com.au/event/ladies-social-golf-club-raffles/2027-07-12/
LOCATION:Caloundra Power Boat Club\, 2 Lamerough Parade\, Golden Beach\, QLD\, 4551\, Australia
CATEGORIES:Internal Clubs
END:VEVENT
BEGIN:VEVENT
DTSTART;TZID=Australia/Brisbane:20270714T170000
DTEND;TZID=Australia/Brisbane:20270714T190000
DTSTAMP:20260420T171610
CREATED:20250515T070536Z
LAST-MODIFIED:20251212T050310Z
UID:10005687-1815584400-1815591600@www.caloundrapowerboat.com.au
SUMMARY:Golf Club Raffles
DESCRIPTION:
URL:https://www.caloundrapowerboat.com.au/event/golf-club-raffles-3/2027-07-14/
LOCATION:Caloundra Power Boat Club\, 2 Lamerough Parade\, Golden Beach\, QLD\, 4551\, Australia
CATEGORIES:Events,Internal Clubs
END:VEVENT
BEGIN:VEVENT
DTSTART;TZID=Australia/Brisbane:20270716T170000
DTEND;TZID=Australia/Brisbane:20270716T190000
DTSTAMP:20260420T171610
CREATED:20250515T070631Z
LAST-MODIFIED:20260223T000240Z
UID:10005949-1815757200-1815764400@www.caloundrapowerboat.com.au
SUMMARY:Fishing Club Raffles
DESCRIPTION:
URL:https://www.caloundrapowerboat.com.au/event/fishing-club-raffles/2027-07-16/
LOCATION:Caloundra Power Boat Club\, 2 Lamerough Parade\, Golden Beach\, QLD\, 4551\, Australia
END:VEVENT
BEGIN:VEVENT
DTSTART;TZID=Australia/Brisbane:20270718T120000
DTEND;TZID=Australia/Brisbane:20270718T130000
DTSTAMP:20260420T171610
CREATED:20250224T184845Z
LAST-MODIFIED:20250307T065205Z
UID:10004616-1815912000-1815915600@www.caloundrapowerboat.com.au
SUMMARY:Outrigger Raffles
DESCRIPTION:Outrigger Raffles every Sundays from 12pm til around 1pm
URL:https://www.caloundrapowerboat.com.au/event/outrigger-raffles/2027-07-18/
LOCATION:Caloundra Power Boat Club\, 2 Lamerough Parade\, Golden Beach\, QLD\, 4551\, Australia
CATEGORIES:Coast Guard Raffles
ATTACH;FMTTYPE=image/webp:https://www.caloundrapowerboat.com.au/wp-content/uploads/2025/02/OCCC-1.webp
END:VEVENT
BEGIN:VEVENT
DTSTART;TZID=Australia/Brisbane:20270718T120000
DTEND;TZID=Australia/Brisbane:20270718T180000
DTSTAMP:20260420T171610
CREATED:20260323T001623Z
LAST-MODIFIED:20260415T065000Z
UID:10007761-1815912000-1815933600@www.caloundrapowerboat.com.au
SUMMARY:Sunday Kick-off!
DESCRIPTION:SUNDAY KICK-OFF!LIVE FROM THE QUARTERDECK! \nCatch all your favourite games live from 12pm – 6pm every Sunday from the Quarterdeck!\nEnjoy all the action streaming live on FOX SPORTS! \nEVERY SUNDAY FROM 12PM
URL:https://www.caloundrapowerboat.com.au/event/sunday-kick-off/2027-07-18/
LOCATION:Caloundra Power Boat Club\, 2 Lamerough Parade\, Golden Beach\, QLD\, 4551\, Australia
CATEGORIES:Events,Events & Live Music
ATTACH;FMTTYPE=image/jpeg:https://www.caloundrapowerboat.com.au/wp-content/uploads/2026/03/Footy-Screens-5.jpg
END:VEVENT
BEGIN:VEVENT
DTSTART;TZID=Australia/Brisbane:20270719T173000
DTEND;TZID=Australia/Brisbane:20270719T183000
DTSTAMP:20260420T171610
CREATED:20260227T014451Z
LAST-MODIFIED:20260227T025407Z
UID:10007494-1816018200-1816021800@www.caloundrapowerboat.com.au
SUMMARY:Ladies Social Golf Club Raffles
DESCRIPTION:Ladies Social Golf Club Raffles\nEvery Monday from 5.30pm\nDrawn at 6.25pm
URL:https://www.caloundrapowerboat.com.au/event/ladies-social-golf-club-raffles/2027-07-19/
LOCATION:Caloundra Power Boat Club\, 2 Lamerough Parade\, Golden Beach\, QLD\, 4551\, Australia
CATEGORIES:Internal Clubs
END:VEVENT
BEGIN:VEVENT
DTSTART;TZID=Australia/Brisbane:20270721T170000
DTEND;TZID=Australia/Brisbane:20270721T190000
DTSTAMP:20260420T171610
CREATED:20250515T070536Z
LAST-MODIFIED:20251212T050310Z
UID:10005688-1816189200-1816196400@www.caloundrapowerboat.com.au
SUMMARY:Golf Club Raffles
DESCRIPTION:
URL:https://www.caloundrapowerboat.com.au/event/golf-club-raffles-3/2027-07-21/
LOCATION:Caloundra Power Boat Club\, 2 Lamerough Parade\, Golden Beach\, QLD\, 4551\, Australia
CATEGORIES:Events,Internal Clubs
END:VEVENT
BEGIN:VEVENT
DTSTART;TZID=Australia/Brisbane:20270723T170000
DTEND;TZID=Australia/Brisbane:20270723T190000
DTSTAMP:20260420T171610
CREATED:20250515T070631Z
LAST-MODIFIED:20260223T000240Z
UID:10005950-1816362000-1816369200@www.caloundrapowerboat.com.au
SUMMARY:Fishing Club Raffles
DESCRIPTION:
URL:https://www.caloundrapowerboat.com.au/event/fishing-club-raffles/2027-07-23/
LOCATION:Caloundra Power Boat Club\, 2 Lamerough Parade\, Golden Beach\, QLD\, 4551\, Australia
END:VEVENT
BEGIN:VEVENT
DTSTART;TZID=Australia/Brisbane:20270725T120000
DTEND;TZID=Australia/Brisbane:20270725T130000
DTSTAMP:20260420T171610
CREATED:20250224T184845Z
LAST-MODIFIED:20250307T065205Z
UID:10004617-1816516800-1816520400@www.caloundrapowerboat.com.au
SUMMARY:Outrigger Raffles
DESCRIPTION:Outrigger Raffles every Sundays from 12pm til around 1pm
URL:https://www.caloundrapowerboat.com.au/event/outrigger-raffles/2027-07-25/
LOCATION:Caloundra Power Boat Club\, 2 Lamerough Parade\, Golden Beach\, QLD\, 4551\, Australia
CATEGORIES:Coast Guard Raffles
ATTACH;FMTTYPE=image/webp:https://www.caloundrapowerboat.com.au/wp-content/uploads/2025/02/OCCC-1.webp
END:VEVENT
BEGIN:VEVENT
DTSTART;TZID=Australia/Brisbane:20270725T120000
DTEND;TZID=Australia/Brisbane:20270725T180000
DTSTAMP:20260420T171610
CREATED:20260323T001623Z
LAST-MODIFIED:20260415T065000Z
UID:10007762-1816516800-1816538400@www.caloundrapowerboat.com.au
SUMMARY:Sunday Kick-off!
DESCRIPTION:SUNDAY KICK-OFF!LIVE FROM THE QUARTERDECK! \nCatch all your favourite games live from 12pm – 6pm every Sunday from the Quarterdeck!\nEnjoy all the action streaming live on FOX SPORTS! \nEVERY SUNDAY FROM 12PM
URL:https://www.caloundrapowerboat.com.au/event/sunday-kick-off/2027-07-25/
LOCATION:Caloundra Power Boat Club\, 2 Lamerough Parade\, Golden Beach\, QLD\, 4551\, Australia
CATEGORIES:Events,Events & Live Music
ATTACH;FMTTYPE=image/jpeg:https://www.caloundrapowerboat.com.au/wp-content/uploads/2026/03/Footy-Screens-5.jpg
END:VEVENT
BEGIN:VEVENT
DTSTART;TZID=Australia/Brisbane:20270726T173000
DTEND;TZID=Australia/Brisbane:20270726T183000
DTSTAMP:20260420T171610
CREATED:20260227T014451Z
LAST-MODIFIED:20260227T025407Z
UID:10007495-1816623000-1816626600@www.caloundrapowerboat.com.au
SUMMARY:Ladies Social Golf Club Raffles
DESCRIPTION:Ladies Social Golf Club Raffles\nEvery Monday from 5.30pm\nDrawn at 6.25pm
URL:https://www.caloundrapowerboat.com.au/event/ladies-social-golf-club-raffles/2027-07-26/
LOCATION:Caloundra Power Boat Club\, 2 Lamerough Parade\, Golden Beach\, QLD\, 4551\, Australia
CATEGORIES:Internal Clubs
END:VEVENT
BEGIN:VEVENT
DTSTART;TZID=Australia/Brisbane:20270728T170000
DTEND;TZID=Australia/Brisbane:20270728T190000
DTSTAMP:20260420T171610
CREATED:20250515T070536Z
LAST-MODIFIED:20251212T050310Z
UID:10005689-1816794000-1816801200@www.caloundrapowerboat.com.au
SUMMARY:Golf Club Raffles
DESCRIPTION:
URL:https://www.caloundrapowerboat.com.au/event/golf-club-raffles-3/2027-07-28/
LOCATION:Caloundra Power Boat Club\, 2 Lamerough Parade\, Golden Beach\, QLD\, 4551\, Australia
CATEGORIES:Events,Internal Clubs
END:VEVENT
BEGIN:VEVENT
DTSTART;TZID=Australia/Brisbane:20270730T170000
DTEND;TZID=Australia/Brisbane:20270730T190000
DTSTAMP:20260420T171610
CREATED:20250515T070631Z
LAST-MODIFIED:20260223T000240Z
UID:10005951-1816966800-1816974000@www.caloundrapowerboat.com.au
SUMMARY:Fishing Club Raffles
DESCRIPTION:
URL:https://www.caloundrapowerboat.com.au/event/fishing-club-raffles/2027-07-30/
LOCATION:Caloundra Power Boat Club\, 2 Lamerough Parade\, Golden Beach\, QLD\, 4551\, Australia
END:VEVENT
END:VCALENDAR